BEGIN:VCALENDAR
VERSION:2.0
PRODID:-//LBNL Physics Division Research Progress Meetings - ECPv6.8.3//NONSGML v1.0//EN
CALSCALE:GREGORIAN
METHOD:PUBLISH
X-WR-CALNAME:LBNL Physics Division Research Progress Meetings
X-ORIGINAL-URL:https://rpm.physics.lbl.gov
X-WR-CALDESC:Events for LBNL Physics Division Research Progress Meetings
REFRESH-INTERVAL;VALUE=DURATION:PT1H
X-Robots-Tag:noindex
X-PUBLISHED-TTL:PT1H
BEGIN:VTIMEZONE
TZID:America/Los_Angeles
BEGIN:DAYLIGHT
TZOFFSETFROM:-0800
TZOFFSETTO:-0700
TZNAME:PDT
DTSTART:20160313T100000
END:DAYLIGHT
BEGIN:STANDARD
TZOFFSETFROM:-0700
TZOFFSETTO:-0800
TZNAME:PST
DTSTART:20161106T090000
END:STANDARD
END:VTIMEZONE
BEGIN:VEVENT
DTSTART;TZID=America/Los_Angeles:20160623T040000
DTEND;TZID=America/Los_Angeles:20160623T170000
DTSTAMP:20260425T005836
CREATED:20160505T085153Z
LAST-MODIFIED:20160505T085153Z
UID:253-1466654400-1466701200@rpm.physics.lbl.gov
SUMMARY:Kate Scholberg (Duke U.) "What Stubs and Sparkles Will Tell Us About Exploding Stars"
DESCRIPTION:Abstract:\nWhen a massive star collapses at the end of its life\, nearly all of\nthe gravitational binding energy of the resulting remnant is released\nin the form of neutrinos.  I will discuss the nature of the\ncore-collapse neutrino burst and what we can learn about particle\nphysics and about astrophysics from the detection of these neutrinos.\nI will cover supernova neutrino detection techniques in general\,\ncurrent supernova neutrino detectors\, and prospects for specific\nfuture experiments.
URL:https://rpm.physics.lbl.gov/event/kate-scholberg-duke-u-what-stubs-and-sparkles-will-tell-us-about-exploding-stars/
LOCATION:Zoom Talk\, 50A-5132\, Berkeley\, ca\, 94720
END:VEVENT
END:VCALENDAR