BEGIN:VCALENDAR
VERSION:2.0
PRODID:-//LBNL Physics Division Research Progress Meetings - ECPv6.8.3//NONSGML v1.0//EN
CALSCALE:GREGORIAN
METHOD:PUBLISH
X-WR-CALNAME:LBNL Physics Division Research Progress Meetings
X-ORIGINAL-URL:https://rpm.physics.lbl.gov
X-WR-CALDESC:Events for LBNL Physics Division Research Progress Meetings
REFRESH-INTERVAL;VALUE=DURATION:PT1H
X-Robots-Tag:noindex
X-PUBLISHED-TTL:PT1H
BEGIN:VTIMEZONE
TZID:America/Los_Angeles
BEGIN:DAYLIGHT
TZOFFSETFROM:-0800
TZOFFSETTO:-0700
TZNAME:PDT
DTSTART:20160313T100000
END:DAYLIGHT
BEGIN:STANDARD
TZOFFSETFROM:-0700
TZOFFSETTO:-0800
TZNAME:PST
DTSTART:20161106T090000
END:STANDARD
END:VTIMEZONE
BEGIN:VEVENT
DTSTART;TZID=America/Los_Angeles:20160630T160000
DTEND;TZID=America/Los_Angeles:20160630T170000
DTSTAMP:20260424T103321
CREATED:20160512T093837Z
LAST-MODIFIED:20160512T093837Z
UID:254-1467302400-1467306000@rpm.physics.lbl.gov
SUMMARY:Alan Poon (LBL) "Searches for Majorana Neutrinos"
DESCRIPTION:Abstract:\nNeutrino oscillation experiments have demonstrated conclusively that neutrinos have mass.  In many Standard Model extensions neutrinos are favored to be Majorana fermions.  A worldwide experimental program to search for this Majorana nature of neutrinos is underway.  In this talk\, I will review the status of experimental searches for Majorana neutrinos\, with the focus on neutrinoless double-beta decay experiments.\nI will also give a brief summary on GERDA Phase-II results that were released on June 29.
URL:https://rpm.physics.lbl.gov/event/alan-poon-lbl-latest-status-in-neutrinoless-double-beta-decay-including-searches-marjorana-neutrinos/
LOCATION:Zoom Talk\, 50A-5132\, Berkeley\, ca\, 94720
END:VEVENT
END:VCALENDAR