BEGIN:VCALENDAR
VERSION:2.0
PRODID:-//LBNL Physics Division Research Progress Meetings - ECPv6.8.3//NONSGML v1.0//EN
CALSCALE:GREGORIAN
METHOD:PUBLISH
X-WR-CALNAME:LBNL Physics Division Research Progress Meetings
X-ORIGINAL-URL:https://rpm.physics.lbl.gov
X-WR-CALDESC:Events for LBNL Physics Division Research Progress Meetings
REFRESH-INTERVAL;VALUE=DURATION:PT1H
X-Robots-Tag:noindex
X-PUBLISHED-TTL:PT1H
BEGIN:VTIMEZONE
TZID:America/Los_Angeles
BEGIN:DAYLIGHT
TZOFFSETFROM:-0800
TZOFFSETTO:-0700
TZNAME:PDT
DTSTART:20160313T100000
END:DAYLIGHT
BEGIN:STANDARD
TZOFFSETFROM:-0700
TZOFFSETTO:-0800
TZNAME:PST
DTSTART:20161106T090000
END:STANDARD
END:VTIMEZONE
BEGIN:VEVENT
DTSTART;TZID=America/Los_Angeles:20160728T160000
DTEND;TZID=America/Los_Angeles:20160728T170000
DTSTAMP:20260424T103323
CREATED:20160523T084723Z
LAST-MODIFIED:20160523T084723Z
UID:257-1469721600-1469725200@rpm.physics.lbl.gov
SUMMARY:Francois Bouchett (IAP) "Latest Cosmological News from the Planck Satellite Project"
DESCRIPTION:Abstract:\nSketched out in 1992\, selected by ESA in 1996\, and launched in 2009\, the Planck satellite was shut off in 2013\, after a measuring mission that exceeded all expectations. The Planck collaboration delivered a first set of cosmological data and results in March 21st 2013\, and the full set in February 2015. Part of the data delivery is a “definitive” map of the anisotropies of the Cosmic Microwave Background (CMB)\, its angular power spectrum together with their full statistical characterization. The 2015 delivery further include pioneering polarisation data. I’ll briefly recall salient scientific results we derived from these data. The Planck collaboration is now working towards a “legacy release” by the end of 2016 which will mark the end of the formal collaboration we set up back in the previous century. To this end\, we keep improving further our control on the potential level of residual systematics in the data and in accounting for these uncertainties in the final cosmological results to further enhance the robustness and precision of the constraints posed by Planck. For instance\, we announced in May an improved likelihood analysis using detailed end-to-end simulation as well as an improved constraint on the reionization optical depth by using for the first time the E-mode polarisation data from the HFI instrument. This determination fully reconciles the CMB results with other astrophysical measurements of reionization from sources at high redshift. It also gives constraints on the level of reionization at redshifts beyond that of the most distant sources (z > 10). I will further give some perspectives on what is coming next.
URL:https://rpm.physics.lbl.gov/event/francois-bouchett-tba-tba/
LOCATION:Zoom Talk\, 50A-5132\, Berkeley\, ca\, 94720
END:VEVENT
END:VCALENDAR