BEGIN:VCALENDAR
VERSION:2.0
PRODID:-//LBNL Physics Division Research Progress Meetings - ECPv6.8.3//NONSGML v1.0//EN
CALSCALE:GREGORIAN
METHOD:PUBLISH
X-ORIGINAL-URL:https://rpm.physics.lbl.gov
X-WR-CALDESC:Events for LBNL Physics Division Research Progress Meetings
REFRESH-INTERVAL;VALUE=DURATION:PT1H
X-Robots-Tag:noindex
X-PUBLISHED-TTL:PT1H
BEGIN:VTIMEZONE
TZID:America/Los_Angeles
BEGIN:DAYLIGHT
TZOFFSETFROM:-0800
TZOFFSETTO:-0700
TZNAME:PDT
DTSTART:20160313T100000
END:DAYLIGHT
BEGIN:STANDARD
TZOFFSETFROM:-0700
TZOFFSETTO:-0800
TZNAME:PST
DTSTART:20161106T090000
END:STANDARD
END:VTIMEZONE
BEGIN:VEVENT
DTSTART;TZID=America/Los_Angeles:20160818T160000
DTEND;TZID=America/Los_Angeles:20160818T170000
DTSTAMP:20260424T084154
CREATED:20160613T084534Z
LAST-MODIFIED:20160613T084534Z
UID:273-1471536000-1471539600@rpm.physics.lbl.gov
SUMMARY:Simone Pagan Griso (LBNL) "Highlights from ICHEP on the LHC Results"
DESCRIPTION:Abstract:\n\nThe 38th International Conference on High Energy Physics has\njust concluded in Chicago\, US. New results from various areas of\nhigh-energy particle physics\, as well as neutrino physics\, cosmology\nand theory were presented in front of about 1400 attendees. In\nparticular\, new results from the LHC experiments were highly\nanticipated\, using more than 10/fb of proton-proton collision data\ncollected at a center-of-mass energy of 13 TeV. I will review a\nselection of the results presented\, focusing on the LHC experiments.
URL:https://rpm.physics.lbl.gov/event/brian-fugikawa-lbnl-new-neutrinoless-double-beta-decay-results-from-kamland-zen/
LOCATION:Zoom Talk\, 50A-5132\, Berkeley\, ca\, 94720
END:VEVENT
END:VCALENDAR