BEGIN:VCALENDAR
VERSION:2.0
PRODID:-//LBNL Physics Division Research Progress Meetings - ECPv6.8.3//NONSGML v1.0//EN
CALSCALE:GREGORIAN
METHOD:PUBLISH
X-WR-CALNAME:LBNL Physics Division Research Progress Meetings
X-ORIGINAL-URL:https://rpm.physics.lbl.gov
X-WR-CALDESC:Events for LBNL Physics Division Research Progress Meetings
REFRESH-INTERVAL;VALUE=DURATION:PT1H
X-Robots-Tag:noindex
X-PUBLISHED-TTL:PT1H
BEGIN:VTIMEZONE
TZID:America/Los_Angeles
BEGIN:DAYLIGHT
TZOFFSETFROM:-0800
TZOFFSETTO:-0700
TZNAME:PDT
DTSTART:20160313T100000
END:DAYLIGHT
BEGIN:STANDARD
TZOFFSETFROM:-0700
TZOFFSETTO:-0800
TZNAME:PST
DTSTART:20161106T090000
END:STANDARD
END:VTIMEZONE
BEGIN:VEVENT
DTSTART;TZID=America/Los_Angeles:20160915T160000
DTEND;TZID=America/Los_Angeles:20160915T170000
DTSTAMP:20260424T103422
CREATED:20160912T084446Z
LAST-MODIFIED:20160912T084446Z
UID:290-1473955200-1473958800@rpm.physics.lbl.gov
SUMMARY:Nick Kaiser (Hawaii) "The Physics of Gravitational Redshifts in Clusters of Galaxies"
DESCRIPTION:ABSTRACT:\nWojtak\, Hansen and Hjorth and others have measured the long-predicted gravitational redshift of light escaping from galaxy clusters using Sloan Digital Sky Survey data. The effect is very small\, corresponding to a velocity shift of only ~10 km/s in clusters with internal random motions of order 600 km/s\, but the result appears to be robust and is in good agreement with general relativity predictions and possibly in conflict with some alternative theories. It was soon realised that the interpretation of this measurement is more complex than initially thought as one needs to allow for the transverse Doppler (TD) redshift. In this talk I will describe how there are actually two more rather subtle and unexpected physical effects that need to be considered in interpreting these observations; there is a `light cone’ effect that augments the TD shift\, and there is a competing effect that reverses the sign of the transverse Doppler effect so that we actually observe a transverse Doppler blue-shift. I will discuss how these observations constrain gravitation theory\, and along the way discuss some issues concerning the interpretation of astronomical redshifts in a broader context.
URL:https://rpm.physics.lbl.gov/event/nick-kaiser-hawaii-the-physics-of-gravitational-redshifts-in-clusters-of-galaxies/
LOCATION:Zoom Talk\, 50A-5132\, Berkeley\, ca\, 94720
END:VEVENT
END:VCALENDAR