BEGIN:VCALENDAR
VERSION:2.0
PRODID:-//LBNL Physics Division Research Progress Meetings - ECPv6.8.3//NONSGML v1.0//EN
CALSCALE:GREGORIAN
METHOD:PUBLISH
X-WR-CALNAME:LBNL Physics Division Research Progress Meetings
X-ORIGINAL-URL:https://rpm.physics.lbl.gov
X-WR-CALDESC:Events for LBNL Physics Division Research Progress Meetings
REFRESH-INTERVAL;VALUE=DURATION:PT1H
X-Robots-Tag:noindex
X-PUBLISHED-TTL:PT1H
BEGIN:VTIMEZONE
TZID:America/Los_Angeles
BEGIN:DAYLIGHT
TZOFFSETFROM:-0800
TZOFFSETTO:-0700
TZNAME:PDT
DTSTART:20160313T100000
END:DAYLIGHT
BEGIN:STANDARD
TZOFFSETFROM:-0700
TZOFFSETTO:-0800
TZNAME:PST
DTSTART:20161106T090000
END:STANDARD
END:VTIMEZONE
BEGIN:VEVENT
DTSTART;TZID=America/Los_Angeles:20161013T160000
DTEND;TZID=America/Los_Angeles:20161013T170000
DTSTAMP:20260424T050639
CREATED:20161006T143256Z
LAST-MODIFIED:20161006T143256Z
UID:361-1476374400-1476378000@rpm.physics.lbl.gov
SUMMARY:Hans Walter Rix (Max Planck) "Fuel Exploration in the Early Universe: The ALMA Spectroscopic Survey of the Hubble Ultra Deep Field"
DESCRIPTION:Abstract:\nMuch of the exploration of the high-redshift\nUniverse has focussed on first finding sites of ongoing star formation.\nThis can then lead to pointed follow-up of how much\ncold (molecular) gas there is that feeds this star formation.\nALMA now enables ‘blind’ surveys for molecular gas\, the fuel\nsupply for galaxy formation at early epochs.\nI will report on initial results of what such surveys can yield.
URL:https://rpm.physics.lbl.gov/event/hans-walter-rix-max-planck-tba/
LOCATION:Zoom Talk\, 50A-5132\, Berkeley\, ca\, 94720
END:VEVENT
END:VCALENDAR