BEGIN:VCALENDAR
VERSION:2.0
PRODID:-//LBNL Physics Division Research Progress Meetings - ECPv6.8.3//NONSGML v1.0//EN
CALSCALE:GREGORIAN
METHOD:PUBLISH
X-WR-CALNAME:LBNL Physics Division Research Progress Meetings
X-ORIGINAL-URL:https://rpm.physics.lbl.gov
X-WR-CALDESC:Events for LBNL Physics Division Research Progress Meetings
REFRESH-INTERVAL;VALUE=DURATION:PT1H
X-Robots-Tag:noindex
X-PUBLISHED-TTL:PT1H
BEGIN:VTIMEZONE
TZID:America/Los_Angeles
BEGIN:DAYLIGHT
TZOFFSETFROM:-0800
TZOFFSETTO:-0700
TZNAME:PDT
DTSTART:20160313T100000
END:DAYLIGHT
BEGIN:STANDARD
TZOFFSETFROM:-0700
TZOFFSETTO:-0800
TZNAME:PST
DTSTART:20161106T090000
END:STANDARD
END:VTIMEZONE
BEGIN:VEVENT
DTSTART;TZID=America/Los_Angeles:20161027T160000
DTEND;TZID=America/Los_Angeles:20161027T170000
DTSTAMP:20260424T050637
CREATED:20161006T143347Z
LAST-MODIFIED:20161006T143347Z
UID:363-1477584000-1477587600@rpm.physics.lbl.gov
SUMMARY:Bruce Schumm (UCSC) "Supersymmetry Searches at the LHC: Status and a Thought or Two about the Future"
DESCRIPTION:Abstract:\n\nI’ll remind us all of the motivation for Supersymmetry searches at the LHC\, and provide a general overview of the status of the search. Since\, even after results making use of in excess of 10 fb-1 of 13 TeV data we see no significant signals\, I’ll end with a discussion of how imperiled SUSY may or may not be at this point.
URL:https://rpm.physics.lbl.gov/event/bruce-schumm-ucsc-status-of-supersymmetry-searches-at-the-lhc/
LOCATION:Zoom Talk\, 50A-5132\, Berkeley\, ca\, 94720
END:VEVENT
END:VCALENDAR