BEGIN:VCALENDAR
VERSION:2.0
PRODID:-//LBNL Physics Division Research Progress Meetings - ECPv6.8.3//NONSGML v1.0//EN
CALSCALE:GREGORIAN
METHOD:PUBLISH
X-WR-CALNAME:LBNL Physics Division Research Progress Meetings
X-ORIGINAL-URL:https://rpm.physics.lbl.gov
X-WR-CALDESC:Events for LBNL Physics Division Research Progress Meetings
REFRESH-INTERVAL;VALUE=DURATION:PT1H
X-Robots-Tag:noindex
X-PUBLISHED-TTL:PT1H
BEGIN:VTIMEZONE
TZID:America/Los_Angeles
BEGIN:DAYLIGHT
TZOFFSETFROM:-0800
TZOFFSETTO:-0700
TZNAME:PDT
DTSTART:20160313T100000
END:DAYLIGHT
BEGIN:STANDARD
TZOFFSETFROM:-0700
TZOFFSETTO:-0800
TZNAME:PST
DTSTART:20161106T090000
END:STANDARD
END:VTIMEZONE
BEGIN:VEVENT
DTSTART;TZID=America/Los_Angeles:20161122T160000
DTEND;TZID=America/Los_Angeles:20161122T170000
DTSTAMP:20260424T001634
CREATED:20160919T153207Z
LAST-MODIFIED:20160919T153207Z
UID:305-1479830400-1479834000@rpm.physics.lbl.gov
SUMMARY:John Bradmiller-Feld (UCSB) "An Inclusive and Generic Search for Supersymmetry in the Multijet + Missing Momentum Final State Performed on pp Collision Data Collected with the CMS Detector"
DESCRIPTION:ABSTRACT\nFor the past two years\, the LHC has collided protons at a record-high center-of-mass energy of 13 TeV. This time has provided an opportunity to search for beyond standard model particles at the TeV scale\, including those predicted by supersymmetry\, with unprecedented sensitivity.  I will present an overview of a generic search for strongly-produced supersymmetric particles in pp collisions in the multijet + missing transverse momentum final state. The data sample corresponds to 12.9 fb-1 recorded by the CMS experiment in 2016. I will review the theoretical and experimental motivation for this search\, then describe the central challenges of the analysis\, namely the data-driven measurements of the standard model backgrounds. Finally\, I will summarize the results of the analysis\, and look ahead to possible directions for this and similar searches in the coming years.
URL:https://rpm.physics.lbl.gov/event/reserved-16/
LOCATION:Zoom Talk\, 50A-5132\, Berkeley\, ca\, 94720
END:VEVENT
END:VCALENDAR