BEGIN:VCALENDAR
VERSION:2.0
PRODID:-//LBNL Physics Division Research Progress Meetings - ECPv6.8.3//NONSGML v1.0//EN
CALSCALE:GREGORIAN
METHOD:PUBLISH
X-ORIGINAL-URL:https://rpm.physics.lbl.gov
X-WR-CALDESC:Events for LBNL Physics Division Research Progress Meetings
REFRESH-INTERVAL;VALUE=DURATION:PT1H
X-Robots-Tag:noindex
X-PUBLISHED-TTL:PT1H
BEGIN:VTIMEZONE
TZID:America/Los_Angeles
BEGIN:DAYLIGHT
TZOFFSETFROM:-0800
TZOFFSETTO:-0700
TZNAME:PDT
DTSTART:20160313T100000
END:DAYLIGHT
BEGIN:STANDARD
TZOFFSETFROM:-0700
TZOFFSETTO:-0800
TZNAME:PST
DTSTART:20161106T090000
END:STANDARD
END:VTIMEZONE
BEGIN:VEVENT
DTSTART;TZID=America/Los_Angeles:20161129T160000
DTEND;TZID=America/Los_Angeles:20161129T170000
DTSTAMP:20260423T185206
CREATED:20160919T153236Z
LAST-MODIFIED:20160919T153236Z
UID:307-1480435200-1480438800@rpm.physics.lbl.gov
SUMMARY:Scott Kravitz (Stanford) "Identification of Single Barium Atoms for the nEXO Neutrinoless Double Beta Decay Experiment"
DESCRIPTION:Abstract:\nnEXO is a next-generation experiment designed to search for neutrinoless double beta decay of xenon-136 in a liquid xenon time projection chamber. Positive observation of this decay would determine the neutrino to be a Majorana particle\, as well as measure the absolute neutrino mass scale. In order to greatly reduce background contributions to this search\, the collaboration is developing several “barium tagging” techniques to recover and identify the decay daughter\, barium-136. Barium tagging may be available for a second phase of nEXO operation\, allowing for neutrino mass sensitivity beyond the inverted mass hierarchy. Tagging methods for this phase include barium-ion capture on a probe with identification by resonance ionization laser spectroscopy (RIS). An apparatus has been built to deposit barium atoms onto a surface and recover them using infrared laser desorption followed by RIS\, with the resulting ions passing through a time-of-flight mass spectrometer for further identification. Recent results from this system will be presented\, including those from incorporating an argon ion gun which allows for improved cleaning and preparation of the barium deposition substrate.
URL:https://rpm.physics.lbl.gov/event/reserved-17/
END:VEVENT
END:VCALENDAR