BEGIN:VCALENDAR
VERSION:2.0
PRODID:-//LBNL Physics Division Research Progress Meetings - ECPv6.8.3//NONSGML v1.0//EN
CALSCALE:GREGORIAN
METHOD:PUBLISH
X-WR-CALNAME:LBNL Physics Division Research Progress Meetings
X-ORIGINAL-URL:https://rpm.physics.lbl.gov
X-WR-CALDESC:Events for LBNL Physics Division Research Progress Meetings
REFRESH-INTERVAL;VALUE=DURATION:PT1H
X-Robots-Tag:noindex
X-PUBLISHED-TTL:PT1H
BEGIN:VTIMEZONE
TZID:America/Los_Angeles
BEGIN:DAYLIGHT
TZOFFSETFROM:-0800
TZOFFSETTO:-0700
TZNAME:PDT
DTSTART:20160313T100000
END:DAYLIGHT
BEGIN:STANDARD
TZOFFSETFROM:-0700
TZOFFSETTO:-0800
TZNAME:PST
DTSTART:20161106T090000
END:STANDARD
END:VTIMEZONE
BEGIN:VEVENT
DTSTART;TZID=America/Los_Angeles:20161130T120000
DTEND;TZID=America/Los_Angeles:20161130T130000
DTSTAMP:20260423T184652
CREATED:20161123T094013Z
LAST-MODIFIED:20161123T094013Z
UID:398-1480507200-1480510800@rpm.physics.lbl.gov
SUMMARY:SPECIAL SEMINAR: Wai Ling Kimmy Wu (Stanford) "Constraining Inflation with BICEP/Keck and SPT"
DESCRIPTION:Abstract: \n\nInflation generically predicts a background of stochastic gravitational waves. In the standard cosmological model LCDM\, these primordial gravitational waves (PGW) are the only source to the odd-parity (curl) B-mode polarization on the Cosmic Microwave Background (CMB) at the epoch of recombination. Therefore\, we can learn much about inflation by constraining or potentially detecting primordial gravitational waves. In this talk\, I will present two frontiers that advance the search for primordial gravitational waves: instrumentation of BICEP3 and delensing with SPTpol. I will conclude with the future outlook of such search with CMB-S4.\n\nIn the first part of the talk\, I will discuss the design and performance of BICEP3 — the path-finder of BICEP/Keck program’s Stage-3 effort. The BICEP/Keck telescopes are small aperture (~0.5m) cryogenic refractors that focus on measuring the degree-angular scale feature of the PGW-generated B modes. BICEP3 has ~10x optical throughput compared to BICEP2 due to a larger field-of-view and aperture size. As a result\, we adopt new designs in BICEP3 for thermal filtering\, optical elements selection\, and detector modules packing. We deployed BICEP3 in the Austral summer of 2014-2015 and upgraded the instrument after the first season of testing and observations. I will present the improvements of the noise levels due to this upgrade.\n\nThe second part of my talk will focus on delensing SPTpol data. Gravitational lensing of primordial (curl-free) E modes generates B modes. These lensing B modes are a source of foreground contamination to detecting the PGW-generated B modes. We can characterize and reduce the lensing B-mode contribution through a technique called “delensing.” I will present results of a first demonstration of delensing on polarization data. In this work\, we delens B-mode maps from multi-frequency SPTpol observations of a 100 deg^2 patch of sky by subtracting a lensing B template constructed from two components: SPTpol E-mode maps and a lensing potential map formed from a Herschel 500 μm map of the CIB. In addition\, we build and use a suite of realistic simulations to study the current limitations and expected future improvements in delensing with implications for future experiments.
URL:https://rpm.physics.lbl.gov/event/special-seminar-wai-ling-kimmy-wu-stanford-constraining-inflation-with-bicepkeck-and-spt/
LOCATION:Zoom Talk\, 50A-5132\, Berkeley\, ca\, 94720
END:VEVENT
END:VCALENDAR