BEGIN:VCALENDAR
VERSION:2.0
PRODID:-//LBNL Physics Division Research Progress Meetings - ECPv6.8.3//NONSGML v1.0//EN
CALSCALE:GREGORIAN
METHOD:PUBLISH
X-ORIGINAL-URL:https://rpm.physics.lbl.gov
X-WR-CALDESC:Events for LBNL Physics Division Research Progress Meetings
REFRESH-INTERVAL;VALUE=DURATION:PT1H
X-Robots-Tag:noindex
X-PUBLISHED-TTL:PT1H
BEGIN:VTIMEZONE
TZID:America/Los_Angeles
BEGIN:DAYLIGHT
TZOFFSETFROM:-0800
TZOFFSETTO:-0700
TZNAME:PDT
DTSTART:20160313T100000
END:DAYLIGHT
BEGIN:STANDARD
TZOFFSETFROM:-0700
TZOFFSETTO:-0800
TZNAME:PST
DTSTART:20161106T090000
END:STANDARD
END:VTIMEZONE
BEGIN:VEVENT
DTSTART;TZID=America/Los_Angeles:20161201T160000
DTEND;TZID=America/Los_Angeles:20161201T170000
DTSTAMP:20260423T185149
CREATED:20160919T160053Z
LAST-MODIFIED:20160919T160053Z
UID:309-1480608000-1480611600@rpm.physics.lbl.gov
SUMMARY:Evan Pease (Yale) "Searching for WIMPs and More: Results from 3 Years of Underground Science with the LUX Experiment"
DESCRIPTION:ABSTRACT:\nThe Large Underground Xenon (LUX) experiment recently concluded underground operationat the Sanford Underground Research Facility. This talk will cover the full LUX search for dark matter in the form of Weakly Interacting Massive Particles (WIMPs) and will describe new measurements of xenon’s properties and new analysis techniques developed for further LUX science.
URL:https://rpm.physics.lbl.gov/event/reserved-18/
LOCATION:Zoom Talk\, 50A-5132\, Berkeley\, ca\, 94720
END:VEVENT
END:VCALENDAR