BEGIN:VCALENDAR
VERSION:2.0
PRODID:-//LBNL Physics Division Research Progress Meetings - ECPv6.8.3//NONSGML v1.0//EN
CALSCALE:GREGORIAN
METHOD:PUBLISH
X-ORIGINAL-URL:https://rpm.physics.lbl.gov
X-WR-CALDESC:Events for LBNL Physics Division Research Progress Meetings
REFRESH-INTERVAL;VALUE=DURATION:PT1H
X-Robots-Tag:noindex
X-PUBLISHED-TTL:PT1H
BEGIN:VTIMEZONE
TZID:America/Los_Angeles
BEGIN:DAYLIGHT
TZOFFSETFROM:-0800
TZOFFSETTO:-0700
TZNAME:PDT
DTSTART:20160313T100000
END:DAYLIGHT
BEGIN:STANDARD
TZOFFSETFROM:-0700
TZOFFSETTO:-0800
TZNAME:PST
DTSTART:20161106T090000
END:STANDARD
END:VTIMEZONE
BEGIN:VEVENT
DTSTART;TZID=America/Los_Angeles:20161213T160000
DTEND;TZID=America/Los_Angeles:20161213T170000
DTSTAMP:20260423T185148
CREATED:20160919T161937Z
LAST-MODIFIED:20160919T161937Z
UID:315-1481644800-1481648400@rpm.physics.lbl.gov
SUMMARY:ChangHoon Hahn (NYU) "Fundamental Physics with Galaxy Clustering"
DESCRIPTION:Abstract: \n\nGalaxies’ connection to the cosmic web allows us to use them to trace the matter distribution in the Universe and make precise measurements of large scale structure. The next galaxy surveys (eBOSS and DESI) will expand the cosmic volumes probed with galaxies by an order of magnitude and provide unprecedented statistical power. The main challenges for realizing their full potential are methodological.\n\nI will present how the main challenges can be solved with robust treatment of systematics (e.g. fiber collisions)\, accurate probabilistic inference\, and higher order statistics. By overcoming these challenges and unlocking the full potential of eBOSS and DESI\, I will present how we can measure the growth of structure and total neutrino mass with unprecedented precision.
URL:https://rpm.physics.lbl.gov/event/reserved-21/
LOCATION:Zoom Talk\, 50A-5132\, Berkeley\, ca\, 94720
END:VEVENT
END:VCALENDAR