BEGIN:VCALENDAR
VERSION:2.0
PRODID:-//LBNL Physics Division Research Progress Meetings - ECPv6.8.3//NONSGML v1.0//EN
CALSCALE:GREGORIAN
METHOD:PUBLISH
X-WR-CALNAME:LBNL Physics Division Research Progress Meetings
X-ORIGINAL-URL:https://rpm.physics.lbl.gov
X-WR-CALDESC:Events for LBNL Physics Division Research Progress Meetings
REFRESH-INTERVAL;VALUE=DURATION:PT1H
X-Robots-Tag:noindex
X-PUBLISHED-TTL:PT1H
BEGIN:VTIMEZONE
TZID:America/Los_Angeles
BEGIN:DAYLIGHT
TZOFFSETFROM:-0800
TZOFFSETTO:-0700
TZNAME:PDT
DTSTART:20160313T100000
END:DAYLIGHT
BEGIN:STANDARD
TZOFFSETFROM:-0700
TZOFFSETTO:-0800
TZNAME:PST
DTSTART:20161106T090000
END:STANDARD
END:VTIMEZONE
BEGIN:VEVENT
DTSTART;TZID=America/Los_Angeles:20161220T160000
DTEND;TZID=America/Los_Angeles:20161220T170000
DTSTAMP:20260423T185136
CREATED:20160919T162057Z
LAST-MODIFIED:20160919T162057Z
UID:317-1482249600-1482253200@rpm.physics.lbl.gov
SUMMARY:Karol Krizka (U. Chicago) "Dark Matter Mediators and Dijet Resonance Searches by the ATLAS Experiment"
DESCRIPTION:Abstract:Using 13 TeV pp collisions\, the ATLAS experiment has used a collection of dijet resonance searches (high-mass dijet\, trigger-level dijet and dijet+ISR) to search for new particles with masses ranging from 200 GeV to 7 TeV. This talk summarizes the searches\, with a focus on new the “dijet+ISR” channel. The dijet+ISR analysis is an LHC-first and reaches mediator masses below 500 GeV by utilizing an ISR jet or photon to trigger the event. This region was previously accessible only by the LEP and Tevatron experiments. This is an important improvement for Dark Matter simplified models\, based on a mediator between a Dark Matter particle and the Standard Model. Cosmological measurements of the Dark Matter relic density prefer the mediator mass to be sub-TeV. By searching for a dijet resonance produced by the mediator decaying back into quarks\, powerful new limits are set on the simplified Dark Matter models.
URL:https://rpm.physics.lbl.gov/event/reserved-22/
LOCATION:Zoom Talk\, 50A-5132\, Berkeley\, ca\, 94720
END:VEVENT
END:VCALENDAR