BEGIN:VCALENDAR
VERSION:2.0
PRODID:-//LBNL Physics Division Research Progress Meetings - ECPv6.8.3//NONSGML v1.0//EN
CALSCALE:GREGORIAN
METHOD:PUBLISH
X-WR-CALNAME:LBNL Physics Division Research Progress Meetings
X-ORIGINAL-URL:https://rpm.physics.lbl.gov
X-WR-CALDESC:Events for LBNL Physics Division Research Progress Meetings
REFRESH-INTERVAL;VALUE=DURATION:PT1H
X-Robots-Tag:noindex
X-PUBLISHED-TTL:PT1H
BEGIN:VTIMEZONE
TZID:America/Los_Angeles
BEGIN:DAYLIGHT
TZOFFSETFROM:-0800
TZOFFSETTO:-0700
TZNAME:PDT
DTSTART:20170312T100000
END:DAYLIGHT
BEGIN:STANDARD
TZOFFSETFROM:-0700
TZOFFSETTO:-0800
TZNAME:PST
DTSTART:20171105T090000
END:STANDARD
END:VTIMEZONE
BEGIN:VEVENT
DTSTART;TZID=America/Los_Angeles:20170214T160000
DTEND;TZID=America/Los_Angeles:20170214T170000
DTSTAMP:20260423T092359
CREATED:20160922T160457Z
LAST-MODIFIED:20160922T160457Z
UID:343-1487088000-1487091600@rpm.physics.lbl.gov
SUMMARY:Manuel Franco Sevilla (UCSB) "Strategies for Searches of Physics Beyond the Standard Model in the XXI Century"
DESCRIPTION:ABSTRACT:\n\nAt the end of the XIX century\, Lord Kelvin summarized a widespread feeling among physicists by saying that “physics is essentially complete\, save for two little clouds”. The “clouds” he was referring to were the puzzling results from two measurements\, the Michelson-Morley experiment and the Black-body spectrum\, whose explanations ushered in an unprecedented era of discoveries that stretched throughout most of the XX century. After the culmination of the Standard Model in the 70’s\, the field of particle physics has found itself in a similar situation. Today\, the “clouds” guiding the searches for physics beyond the Standard Model are issues like dark matter or the hierarchy problem. Using SUSY searches at CMS and the measurement of B->D(*)TauNu decays at BaBar as models\, I will give an overview of some of the main strategies that are being followed in the quest to find new physics in the XXI century.
URL:https://rpm.physics.lbl.gov/event/reserved-34/
LOCATION:Zoom Talk\, 50A-5132\, Berkeley\, ca\, 94720
END:VEVENT
END:VCALENDAR