BEGIN:VCALENDAR
VERSION:2.0
PRODID:-//LBNL Physics Division Research Progress Meetings - ECPv6.8.3//NONSGML v1.0//EN
CALSCALE:GREGORIAN
METHOD:PUBLISH
X-WR-CALNAME:LBNL Physics Division Research Progress Meetings
X-ORIGINAL-URL:https://rpm.physics.lbl.gov
X-WR-CALDESC:Events for LBNL Physics Division Research Progress Meetings
REFRESH-INTERVAL;VALUE=DURATION:PT1H
X-Robots-Tag:noindex
X-PUBLISHED-TTL:PT1H
BEGIN:VTIMEZONE
TZID:America/Los_Angeles
BEGIN:DAYLIGHT
TZOFFSETFROM:-0800
TZOFFSETTO:-0700
TZNAME:PDT
DTSTART:20170312T100000
END:DAYLIGHT
BEGIN:STANDARD
TZOFFSETFROM:-0700
TZOFFSETTO:-0800
TZNAME:PST
DTSTART:20171105T090000
END:STANDARD
END:VTIMEZONE
BEGIN:VEVENT
DTSTART;TZID=America/Los_Angeles:20170309T160000
DTEND;TZID=America/Los_Angeles:20170309T170000
DTSTAMP:20260422T224356
CREATED:20170125T080617Z
LAST-MODIFIED:20170125T080617Z
UID:450-1489075200-1489078800@rpm.physics.lbl.gov
SUMMARY:Timon Heim (LBNL) “Challenges of the ATLAS Phase 2 Tracker Upgrade”
DESCRIPTION:For the phase 2 upgrade of the ATLAS experiment at the LHC\, its inner detector will be replaced by a new all-silicon tracker\, the Inner Tracker (ITk). This upgrade is necessary both because the inner detector will have reached its intended lifetime and to maintain tracking performance of the ATLAS detector under the demands of a 5 to 7 times higher collision rate after the high luminosity upgrade of the LHC. This presentation will give an overview and status of the ITk Strip and Pixel detector. It will highlight one major challenge for each of the detectors: the on-module DC-DC powering circuit of the ITk Strip detector and the 65nm readout chip of the ITk Pixel detector. Furthermore I will present a readout concept which could be used as a base for a common ITk readout software core. This core can operate with multiple hardware platforms and user interfaces\, an essential feature for the successful transition from prototyping and production to detector commissioning and operation.
URL:https://rpm.physics.lbl.gov/event/reserved-39/
LOCATION:Zoom Talk\, 50A-5132\, Berkeley\, ca\, 94720
END:VEVENT
END:VCALENDAR