BEGIN:VCALENDAR
VERSION:2.0
PRODID:-//LBNL Physics Division Research Progress Meetings - ECPv6.8.3//NONSGML v1.0//EN
CALSCALE:GREGORIAN
METHOD:PUBLISH
X-WR-CALNAME:LBNL Physics Division Research Progress Meetings
X-ORIGINAL-URL:https://rpm.physics.lbl.gov
X-WR-CALDESC:Events for LBNL Physics Division Research Progress Meetings
REFRESH-INTERVAL;VALUE=DURATION:PT1H
X-Robots-Tag:noindex
X-PUBLISHED-TTL:PT1H
BEGIN:VTIMEZONE
TZID:America/Los_Angeles
BEGIN:DAYLIGHT
TZOFFSETFROM:-0800
TZOFFSETTO:-0700
TZNAME:PDT
DTSTART:20170312T100000
END:DAYLIGHT
BEGIN:STANDARD
TZOFFSETFROM:-0700
TZOFFSETTO:-0800
TZNAME:PST
DTSTART:20171105T090000
END:STANDARD
END:VTIMEZONE
BEGIN:VEVENT
DTSTART;TZID=America/Los_Angeles:20170713T080000
DTEND;TZID=America/Los_Angeles:20170713T160000
DTSTAMP:20260422T004423
CREATED:20170612T123408Z
LAST-MODIFIED:20170612T123408Z
UID:552-1499932800-1499961600@rpm.physics.lbl.gov
SUMMARY:Zachary Marshall (LBNL) "Title: Searching for SUSY in Big Data at the LHC"
DESCRIPTION:ABSTRACT:\nOne of the most enticing and popular additions to the Standard Model of particle physics\, Supersymmetry\, is the target of a wide range of searches at the Large Hadron Collider at CERN.  The ATLAS and CMS experiments have produced an incredible variety of searches\, but Supersymmetry remains elusive.  We will discuss the results of some of the recent searches that demonstrate the dexterity of both experiments\, and point out which assumptions might be playing an important role in the interpretation of those results.  There are still many ways Supersymmetry could have escaped detection up to now\, and we will also point towards some of the next directions for searches for Supersymmetry at the LHC.  Along the way\, we will discuss some of the software and computing challenges that come with world-wide analysis of tens of billions of events\, and how the
URL:https://rpm.physics.lbl.gov/event/zachary-marshall-lbnl-tba/
LOCATION:HYBRID 50A-5132 (Sessler Conference Room)\, https://lbnl.zoom.us/j/91782268585\, 50A-5132
END:VEVENT
END:VCALENDAR