BEGIN:VCALENDAR
VERSION:2.0
PRODID:-//LBNL Physics Division Research Progress Meetings - ECPv6.8.3//NONSGML v1.0//EN
CALSCALE:GREGORIAN
METHOD:PUBLISH
X-WR-CALNAME:LBNL Physics Division Research Progress Meetings
X-ORIGINAL-URL:https://rpm.physics.lbl.gov
X-WR-CALDESC:Events for LBNL Physics Division Research Progress Meetings
REFRESH-INTERVAL;VALUE=DURATION:PT1H
X-Robots-Tag:noindex
X-PUBLISHED-TTL:PT1H
BEGIN:VTIMEZONE
TZID:America/Los_Angeles
BEGIN:DAYLIGHT
TZOFFSETFROM:-0800
TZOFFSETTO:-0700
TZNAME:PDT
DTSTART:20170312T100000
END:DAYLIGHT
BEGIN:STANDARD
TZOFFSETFROM:-0700
TZOFFSETTO:-0800
TZNAME:PST
DTSTART:20171105T090000
END:STANDARD
END:VTIMEZONE
BEGIN:VEVENT
DTSTART;TZID=America/Los_Angeles:20170815T160000
DTEND;TZID=America/Los_Angeles:20170815T170000
DTSTAMP:20260421T184422
CREATED:20170724T085023Z
LAST-MODIFIED:20170724T085023Z
UID:569-1502812800-1502816400@rpm.physics.lbl.gov
SUMMARY:Tova Holmes (ATLAS) "The FTK: Global Tracking for the ATLAS Trigger"
DESCRIPTION:Abstract: \nThe ATLAS Detector is in the process of upgrading its Trigger and Data Acquisition system to include global processing of tracks using the FastTracKer (FTK). The FTK uses a parallelized structure to identify and reconstruct the properties of tracks from the 98 million channels of the the ATLAS silicon detectors. With the use of hardware-level pattern matching and a two-tiered track-fitting system\, this reconstruction can be performed on all events passing the first-stage ATLAS trigger\, with a rate up to 100 kHz and requiring less than 100 µs per event. These capability opens new doors for b-jet and tau triggering\, allows for the suppression of pile-up effects on missing energy triggers\, and can even be used to isolate BSM signatures involving long-lived particles. This talk will discuss the physics case for the FTK\, an overview of its design\, and its integration status.
URL:https://rpm.physics.lbl.gov/event/tova-holmes-atlas-tba/
LOCATION:HYBRID 50A-5132 (Sessler Conference Room)\, https://lbnl.zoom.us/j/91782268585\, 50A-5132
END:VEVENT
END:VCALENDAR