BEGIN:VCALENDAR
VERSION:2.0
PRODID:-//LBNL Physics Division Research Progress Meetings - ECPv6.8.3//NONSGML v1.0//EN
CALSCALE:GREGORIAN
METHOD:PUBLISH
X-WR-CALNAME:LBNL Physics Division Research Progress Meetings
X-ORIGINAL-URL:https://rpm.physics.lbl.gov
X-WR-CALDESC:Events for LBNL Physics Division Research Progress Meetings
REFRESH-INTERVAL;VALUE=DURATION:PT1H
X-Robots-Tag:noindex
X-PUBLISHED-TTL:PT1H
BEGIN:VTIMEZONE
TZID:America/Los_Angeles
BEGIN:DAYLIGHT
TZOFFSETFROM:-0800
TZOFFSETTO:-0700
TZNAME:PDT
DTSTART:20170312T100000
END:DAYLIGHT
BEGIN:STANDARD
TZOFFSETFROM:-0700
TZOFFSETTO:-0800
TZNAME:PST
DTSTART:20171105T090000
END:STANDARD
END:VTIMEZONE
BEGIN:VEVENT
DTSTART;TZID=America/Los_Angeles:20171116T160000
DTEND;TZID=America/Los_Angeles:20171116T170000
DTSTAMP:20260420T171818
CREATED:20170807T104311Z
LAST-MODIFIED:20170807T104311Z
UID:597-1510848000-1510851600@rpm.physics.lbl.gov
SUMMARY:Ulascan Sarica (John Hopkins U.) "Measurements of Mass\, Width\, Lifetime\, and Anomalous Couplings of the H(125) Boson"
DESCRIPTION:Abstract:\nThe discovery of the Higgs boson has completed the set of particles predicted by the Standard Model (SM). It has been established by the CMS and ATLAS Collaborations at the Large Hadron Collider that the discovered boson is consistent with J^PC=0^++. The width of this boson is also consistent with the predicted value from the SM\, but the constraints using events at the resonance peak are orders of magnitude looser than the prediction. In this talk\, we will be exploring techniques developed to probe small anomalous couplings of the Higgs boson. Emphasis will be given to the recent studies of Higgs-diboson (HVV) couplings from the CMS Collaboration\, where information from associated production becomes even more important than the kinematics of Higgs decay products. We will also look at joint mass-width measurements using either events at the resonance peak or at the offshell tail of Higgs boson production. We will see that even small anomalous couplings show enhancement at the offshell tail and discuss briefly how joint constraints can be studied.
URL:https://rpm.physics.lbl.gov/event/reserved-51/
LOCATION:HYBRID 50A-5132 (Sessler Conference Room)\, https://lbnl.zoom.us/j/91782268585\, 50A-5132
END:VEVENT
END:VCALENDAR