BEGIN:VCALENDAR
VERSION:2.0
PRODID:-//LBNL Physics Division Research Progress Meetings - ECPv6.8.3//NONSGML v1.0//EN
CALSCALE:GREGORIAN
METHOD:PUBLISH
X-ORIGINAL-URL:https://rpm.physics.lbl.gov
X-WR-CALDESC:Events for LBNL Physics Division Research Progress Meetings
REFRESH-INTERVAL;VALUE=DURATION:PT1H
X-Robots-Tag:noindex
X-PUBLISHED-TTL:PT1H
BEGIN:VTIMEZONE
TZID:UTC
BEGIN:STANDARD
TZOFFSETFROM:+0000
TZOFFSETTO:+0000
TZNAME:UTC
DTSTART:20210101T000000
END:STANDARD
END:VTIMEZONE
BEGIN:VEVENT
DTSTART;TZID=UTC:20210114T160000
DTEND;TZID=UTC:20210114T170000
DTSTAMP:20260422T105039
CREATED:20210107T190507Z
LAST-MODIFIED:20210107T190604Z
UID:1571-1610640000-1610643600@rpm.physics.lbl.gov
SUMMARY:Nandita Khetan (Gran Sasso Science Institute) "Cosmology in the multi-messenger era"
DESCRIPTION:Abstract: \nThe talk will present my PhD project research which focuses on advancing the standardization of various transients to be used as cosmological probes and the evaluation of the Hubble constant (H0). With SN Ia\, I will present interesting results coming from a recent work where I used an alternate way to calibrate SN Ia based on the surface brightness fluctuations (SBF) method. Besides SNe Ia\, I explored other exotic/new transients like Superluminous supernovae\, Kilonovae and Gravitational waves as distance indicators. In particular\, I worked on SLSNe in rest frame UV wavelengths to find peak luminosity correlations with light curve properties. I participated in a project exploring KNe as a standard candle to perform independent measurements of H0. I am currently working on the prospects of calibrating SNe Ia with GW distances measured from future GW detectors. I will briefly present these cosmological probes and discuss their future perspectives.\n\n\n\n\nhttp://physics.lbl.gov/rpm/index.php/events/ \nIf you are looking to confirm if there is an event\, due to room reservation\, please go to RPM website for a list of all scheduled talks. \n──────────\nTroy Cortez is inviting you to a scheduled Zoom meeting. \nJoin Zoom Meeting\nhttps://lbnl.zoom.us/j/94818263036 \nMeeting ID: 948 1826 3036\nOne tap mobile\n+16699006833\,\,94818263036# US (San Jose)\n+12532158782\,\,94818263036# US (Tacoma) \nDial by your location\n+1 669 900 6833 US (San Jose)\n+1 253 215 8782 US (Tacoma)\n+1 346 248 7799 US (Houston)\n+1 312 626 6799 US (Chicago)\n+1 646 558 8656 US (New York)\n+1 301 715 8592 US (Washington D.C)\nMeeting ID: 948 1826 3036\nFind your local number: https://lbnl.zoom.us/u/a9sKBohim \nJoin by SIP\n94818263036@zoomcrc.com \nJoin by H.323\n162.255.37.11 (US West)\n162.255.36.11 (US East)\n115.114.131.7 (India Mumbai)\n115.114.115.7 (India Hyderabad)\n213.19.144.110 (Amsterdam Netherlands)\n213.244.140.110 (Germany)\n103.122.166.55 (Australia)\n64.211.144.160 (Brazil)\n69.174.57.160 (Canada)\n207.226.132.110 (Japan)\nMeeting ID: 948 1826 3036 \n──────────
URL:https://rpm.physics.lbl.gov/event/nandita-khetan-gran-sasso-science-institute-cosmology-in-the-multi-messenger-era/
LOCATION:Zoom Talk\, 50A-5132\, Berkeley\, ca\, 94720
END:VEVENT
END:VCALENDAR