BEGIN:VCALENDAR
VERSION:2.0
PRODID:-//LBNL Physics Division Research Progress Meetings - ECPv6.8.3//NONSGML v1.0//EN
CALSCALE:GREGORIAN
METHOD:PUBLISH
X-WR-CALNAME:LBNL Physics Division Research Progress Meetings
X-ORIGINAL-URL:https://rpm.physics.lbl.gov
X-WR-CALDESC:Events for LBNL Physics Division Research Progress Meetings
REFRESH-INTERVAL;VALUE=DURATION:PT1H
X-Robots-Tag:noindex
X-PUBLISHED-TTL:PT1H
BEGIN:VTIMEZONE
TZID:UTC
BEGIN:STANDARD
TZOFFSETFROM:+0000
TZOFFSETTO:+0000
TZNAME:UTC
DTSTART:20210101T000000
END:STANDARD
END:VTIMEZONE
BEGIN:VEVENT
DTSTART;TZID=UTC:20210119T131000
DTEND;TZID=UTC:20210119T141000
DTSTAMP:20260422T052423
CREATED:20210115T163332Z
LAST-MODIFIED:20210115T163332Z
UID:1580-1611061800-1611065400@rpm.physics.lbl.gov
SUMMARY:Special RPM-Berkeley Cosmology Seminar | Sihan Yuan (Harvard University) Tackling the challenges of galaxy-dark matter connection modeling and secondary bias
DESCRIPTION:Abstract: \nModeling galaxy-dark matter connection is essential in deriving unbiased cosmological constraints from galaxy clustering observations. We show that a more physically motivated galaxy-dark matter incorporating secondary biases can result in more accurate predictions of galaxy clustering\, and that it significantly reduces the tension in galaxy lensing. We further present progress in building a galaxy-dark matter connection framework that is rich in features and highly efficient in evaluation\, enabling more robust cosmological analyses with upcoming DESI data.\n \n\n\n\n──────────\nTroy Cortez is inviting you to a scheduled Zoom meeting. \nJoin Zoom Meeting\nhttps://lbnl.zoom.us/j/97518801157 \nMeeting ID: 975 1880 1157\nOne tap mobile\n+16699006833\,\,97518801157# US (San Jose)\n+13462487799\,\,97518801157# US (Houston) \nDial by your location\n+1 669 900 6833 US (San Jose)\n+1 346 248 7799 US (Houston)\n+1 253 215 8782 US (Tacoma)\n+1 646 558 8656 US (New York)\n+1 301 715 8592 US (Washington D.C)\n+1 312 626 6799 US (Chicago)\nMeeting ID: 975 1880 1157\nFind your local number: https://lbnl.zoom.us/u/adtjQZqJZT \nJoin by SIP\n97518801157@zoomcrc.com \nJoin by H.323\n162.255.37.11 (US West)\n162.255.36.11 (US East)\n115.114.131.7 (India Mumbai)\n115.114.115.7 (India Hyderabad)\n213.19.144.110 (Amsterdam Netherlands)\n213.244.140.110 (Germany)\n103.122.166.55 (Australia)\n64.211.144.160 (Brazil)\n69.174.57.160 (Canada)\n207.226.132.110 (Japan)\nMeeting ID: 975 1880 1157 \n──────────
URL:https://rpm.physics.lbl.gov/event/special-rpm-berkeley-cosmology-seminar-sihan-yuan-harvard-university-tackling-the-challenges-of-galaxy-dark-matter-connection-modeling-and-secondary-bias/
LOCATION:Zoom Talk\, 50A-5132\, Berkeley\, ca\, 94720
END:VEVENT
BEGIN:VEVENT
DTSTART;TZID=UTC:20210119T160000
DTEND;TZID=UTC:20210119T170000
DTSTAMP:20260422T052423
CREATED:20210111T212936Z
LAST-MODIFIED:20210119T165742Z
UID:1577-1611072000-1611075600@rpm.physics.lbl.gov
SUMMARY:Kevin Woods (Stony Brook University) "Measuring neutrino oscillations with accelerator-based\, long-baseline experiments"
DESCRIPTION:Abstract: \n\nAccelerator-based\, long-baseline neutrino oscillation experiments are uniquely positioned to explore the CP-violating nature of the neutrino sector. This talk will briey discuss the experimental technique before surveying selected topics spanning both current and future generations of such experiments. First\, the Bayesian Markov Chain Monte Carlo oscillation analysis of the T2K experiment\, which has been accumulating data for the past 10 years\, will be presented before discussing the ongoing efforts to extend the analysis framework to be used in a joint analysis between T2K and the NOA experiment at Fermilab. The experience obtained from these experiments already in the data taking stages has been and will continue to be invaluable in the design of future experiments\, such as the Deep Underground Neutrino Experiment (DUNE). The DUNE collaboration will employ the liquid argon time projection chamber (LArTPC) technology at an unprecedented scale to measure neutrino interactions at its far site. The talk will conclude with an overview of the realization and operation of the protoDUNE-SP detector\, a prototype for a DUNE far detector module\, for a charged particle test beam run that took place at CERN in the end of 2018 \n\nhttp://physics.lbl.gov/rpm/index.php/events/ \nIf you are looking to confirm if there is an event\, due to room reservation\, please go to RPM website for a list of all scheduled talks. \n──────────\nTroy Cortez is inviting you to a scheduled Zoom meeting. \nJoin Zoom Meeting\nhttps://lbnl.zoom.us/j/97143316113 \nMeeting ID: 971 4331 6113\nOne tap mobile\n+16699006833\,\,97143316113# US (San Jose)\n+13462487799\,\,97143316113# US (Houston) \nDial by your location\n+1 669 900 6833 US (San Jose)\n+1 346 248 7799 US (Houston)\n+1 253 215 8782 US (Tacoma)\n+1 301 715 8592 US (Washington D.C)\n+1 312 626 6799 US (Chicago)\n+1 646 558 8656 US (New York)\nMeeting ID: 971 4331 6113\nFind your local number: https://lbnl.zoom.us/u/ad5JPUF20z \nJoin by SIP\n97143316113@zoomcrc.com \nJoin by H.323\n162.255.37.11 (US West)\n162.255.36.11 (US East)\n115.114.131.7 (India Mumbai)\n115.114.115.7 (India Hyderabad)\n213.19.144.110 (Amsterdam Netherlands)\n213.244.140.110 (Germany)\n103.122.166.55 (Australia)\n64.211.144.160 (Brazil)\n69.174.57.160 (Canada)\n207.226.132.110 (Japan)\nMeeting ID: 971 4331 6113 \n──────────
URL:https://rpm.physics.lbl.gov/event/kevin-woods-stoney-brook-university-measuring-neutrino-oscillations-with-accelerator-based-long-baseline-experiments/
LOCATION:Zoom Talk\, 50A-5132\, Berkeley\, ca\, 94720
END:VEVENT
END:VCALENDAR