BEGIN:VCALENDAR
VERSION:2.0
PRODID:-//LBNL Physics Division Research Progress Meetings - ECPv6.8.3//NONSGML v1.0//EN
CALSCALE:GREGORIAN
METHOD:PUBLISH
X-WR-CALNAME:LBNL Physics Division Research Progress Meetings
X-ORIGINAL-URL:https://rpm.physics.lbl.gov
X-WR-CALDESC:Events for LBNL Physics Division Research Progress Meetings
REFRESH-INTERVAL;VALUE=DURATION:PT1H
X-Robots-Tag:noindex
X-PUBLISHED-TTL:PT1H
BEGIN:VTIMEZONE
TZID:UTC
BEGIN:STANDARD
TZOFFSETFROM:+0000
TZOFFSETTO:+0000
TZNAME:UTC
DTSTART:20210101T000000
END:STANDARD
END:VTIMEZONE
BEGIN:VEVENT
DTSTART;TZID=UTC:20210325T160000
DTEND;TZID=UTC:20210325T170000
DTSTAMP:20260422T160441
CREATED:20210305T035519Z
LAST-MODIFIED:20210325T191306Z
UID:1613-1616688000-1616691600@rpm.physics.lbl.gov
SUMMARY:Timon Heim (LBNL) "Moving from the Prototyping to the Production Phase for the Inner Tracker Upgrade of the ATLAS Detector"
DESCRIPTION:Abstract:\n\nAs part of the Phase 2 upgrade of the ATLAS detector to ready it for operation at the High-Luminosity LHC the inner tracking system will be replaced by an all silicon Inner Tracker (ITk). The Pixel and Strip system of the ITK are now leaving the prototyping phase and preparing the start of the (pre) production phase. As part of this transition I plan to report on the latest status of the detector design and retrospectively discuss major design decisions which shaped the detector as it is now planned to be produced. In addition to looking at the latest tracking detector instrumentation\, the scale of the ITk Pixel and Strip detector allows us to look at what challenges we might face for future equally sized or larger tracking detectors.\n\n\nhttp://physics.lbl.gov/rpm/index.php/events/ \nIf you are looking to confirm if there is an event\, due to room reservation\, please go to RPM website for a list of all scheduled talks.\n──────────\nTroy Cortez is inviting you to a scheduled Zoom meeting. \nJoin Zoom Meeting\nhttps://lbnl.zoom.us/j/91782268585 \nMeeting ID: 917 8226 8585\nOne tap mobile\n+16699006833\,\,91782268585# US (San Jose)\n+13462487799\,\,91782268585# US (Houston) \nDial by your location\n+1 669 900 6833 US (San Jose)\n+1 346 248 7799 US (Houston)\n+1 253 215 8782 US (Tacoma)\n+1 646 558 8656 US (New York)\n+1 301 715 8592 US (Germantown)\n+1 312 626 6799 US (Chicago)\nMeeting ID: 917 8226 8585\nFind your local number: https://lbnl.zoom.us/u/abeLb1T4q1 \nJoin by SIP\n91782268585@zoomcrc.com \nJoin by H.323\n162.255.37.11 (US West)\n162.255.36.11 (US East)\n115.114.131.7 (India Mumbai)\n115.114.115.7 (India Hyderabad)\n213.19.144.110 (EMEA)\n103.122.166.55 (Australia)\n64.211.144.160 (Brazil)\n69.174.57.160 (Canada)\n207.226.132.110 (Japan)\nMeeting ID: 917 8226 8585 \n──────────
URL:https://rpm.physics.lbl.gov/event/timon-heim-lbnl/
LOCATION:Zoom Talk\, 50A-5132\, Berkeley\, ca\, 94720
END:VEVENT
END:VCALENDAR