BEGIN:VCALENDAR
VERSION:2.0
PRODID:-//LBNL Physics Division Research Progress Meetings - ECPv6.8.3//NONSGML v1.0//EN
CALSCALE:GREGORIAN
METHOD:PUBLISH
X-ORIGINAL-URL:https://rpm.physics.lbl.gov
X-WR-CALDESC:Events for LBNL Physics Division Research Progress Meetings
REFRESH-INTERVAL;VALUE=DURATION:PT1H
X-Robots-Tag:noindex
X-PUBLISHED-TTL:PT1H
BEGIN:VTIMEZONE
TZID:UTC
BEGIN:STANDARD
TZOFFSETFROM:+0000
TZOFFSETTO:+0000
TZNAME:UTC
DTSTART:20210101T000000
END:STANDARD
END:VTIMEZONE
BEGIN:VEVENT
DTSTART;TZID=UTC:20211109T160000
DTEND;TZID=UTC:20211109T170000
DTSTAMP:20260424T180940
CREATED:20211102T215004Z
LAST-MODIFIED:20211108T164659Z
UID:1729-1636473600-1636477200@rpm.physics.lbl.gov
SUMMARY:Caterina Vernieri (Stanford) "A "Cool" Route to Unveil the Higgs Boson’s Secrets"
DESCRIPTION:ABSTRACT:\nThe Higgs boson was discovered in 2012 by the ATLAS and CMS experiments at the world’s most powerful particle collider\, the Large Hadron Collider (LHC) in Geneva\, Switzerland. This particle plays a unique role in fundamental physics. It gives all of the known elementary particles\, including itself\, their masses. While we now have a strong evidence that the Higgs field is indeed the unique source of mass for the known elementary particles\, the next step is to search for new interactions that could also explain why the Higgs field has the properties required by the Standard Model of particle physics.  We have no clear roadmap to this new theory but the Higgs boson plays a crucial role in this quest. This talk highlights the current experimental results of Higgs boson couplings to other particles and its self-coupling at the LHC and perspectives at future colliders. The goal of a next-generation collider is to carry out precision measurements to per-cent level of the Higgs boson properties that are not accessible at the LHC. The exploitation of the complementarity between LHC and future colliders will be the key to understanding fundamentally the Higgs boson. The Cool Copper Collider (C^3) is a new concept for linear e+e- collider that could provide a rapid route to precision Higgs physics with a compact footprint.\nhttp://physics.lbl.gov/rpm/index.php/events/If you are looking to confirm if there is an event\, due to room reservation\, please go to RPM website for a list of all scheduled talks.\n──────────\nTroy Cortez is inviting you to a scheduled Zoom meeting. \nJoin Zoom Meeting\nhttps://lbnl.zoom.us/j/95906405235 \nMeeting ID: 959 0640 5235\nOne tap mobile\n+16699006833\,\,95906405235# US (San Jose)\n+13462487799\,\,95906405235# US (Houston) \nDial by your location\n+1 669 900 6833 US (San Jose)\n+1 346 248 7799 US (Houston)\n+1 253 215 8782 US (Tacoma)\n+1 301 715 8592 US (Germantown)\n+1 312 626 6799 US (Chicago)\n+1 646 558 8656 US (New York)\nMeeting ID: 959 0640 5235\nFind your local number: https://lbnl.zoom.us/u/a9dnGtb5T \nJoin by SIP\n95906405235@zoomcrc.com \nJoin by H.323\n162.255.37.11 (US West)\n162.255.36.11 (US East)\n115.114.131.7 (India Mumbai)\n115.114.115.7 (India Hyderabad)\n213.19.144.110 (EMEA)\n103.122.166.55 (Australia)\n64.211.144.160 (Brazil)\n69.174.57.160 (Canada)\n207.226.132.110 (Japan)\nMeeting ID: 959 0640 5235 \n──────────
URL:https://rpm.physics.lbl.gov/event/caterina-vernieri-stanford-a-cool-route-to-unveil-the-higgs-bosons-secrets/
LOCATION:Zoom Talk\, 50A-5132\, Berkeley\, ca\, 94720
END:VEVENT
END:VCALENDAR