BEGIN:VCALENDAR
VERSION:2.0
PRODID:-//LBNL Physics Division Research Progress Meetings - ECPv6.8.3//NONSGML v1.0//EN
CALSCALE:GREGORIAN
METHOD:PUBLISH
X-WR-CALNAME:LBNL Physics Division Research Progress Meetings
X-ORIGINAL-URL:https://rpm.physics.lbl.gov
X-WR-CALDESC:Events for LBNL Physics Division Research Progress Meetings
REFRESH-INTERVAL;VALUE=DURATION:PT1H
X-Robots-Tag:noindex
X-PUBLISHED-TTL:PT1H
BEGIN:VTIMEZONE
TZID:UTC
BEGIN:STANDARD
TZOFFSETFROM:+0000
TZOFFSETTO:+0000
TZNAME:UTC
DTSTART:20210101T000000
END:STANDARD
END:VTIMEZONE
BEGIN:VEVENT
DTSTART;TZID=UTC:20211201T120000
DTEND;TZID=UTC:20211201T130000
DTSTAMP:20260424T084206
CREATED:20211124T181920Z
LAST-MODIFIED:20211126T175753Z
UID:1756-1638360000-1638363600@rpm.physics.lbl.gov
SUMMARY:Boryana Hadzhiyska (Harvard) "Uncovering physics from Stage-IV cosmological experiments with accurate galaxy models"
DESCRIPTION:Abstract:\nOver the next few years\, cutting-edge cosmological experiments such as DESI\, Rubin and CMB-S4 will provide an exquisite probe of the accelerated expansion of the Universe\, structure formation\, and general relativity\, and thus bring us closer to revealing the nature of dark energy\, dark matter\, inflation and neutrinos. One of the most critical issues with these experiments will be the connection between observed galaxies and the underlying matter field. My research program offers a viable path for constructing accurate models of the galaxy-matter connection and applying them to observational analysis\, with the goal of recovering the missing pieces of our cosmological model. In particular\, I will share my contributions to the development of state-of-the-art cosmological simulations and analysis tools and propose readily reachable goals for extracting cosmological information from the ongoing DESI and CMB experiments. Future breakthroughs will likely be the product of collaborative efforts across all of cosmology\, galaxy formation and particle physics. My broad-scaled research proposal will bring together diverse ideas and aid LBNL science goals at the crossroads of cosmological discovery. \n──────────\nTroy Cortez is inviting you to a scheduled Zoom meeting. \nJoin Zoom Meeting\nhttps://lbnl.zoom.us/j/96671323188?pwd=TVZ2WHZUcjgzMzhKV0sxQys3SUY5UT09 \nMeeting ID: 966 7132 3188\nPasscode: 657990\nOne tap mobile\n+16699006833\,\,96671323188#\,\,\,\,*657990# US (San Jose)\n+12532158782\,\,96671323188#\,\,\,\,*657990# US (Tacoma) \nDial by your location\n+1 669 900 6833 US (San Jose)\n+1 253 215 8782 US (Tacoma)\n+1 346 248 7799 US (Houston)\n+1 301 715 8592 US (Washington DC)\n+1 312 626 6799 US (Chicago)\n+1 646 558 8656 US (New York)\nMeeting ID: 966 7132 3188\nPasscode: 657990\nFind your local number: https://lbnl.zoom.us/u/ad4weom8dG \nJoin by SIP\n96671323188@zoomcrc.com \nJoin by H.323\n162.255.37.11 (US West)\n162.255.36.11 (US East)\n115.114.131.7 (India Mumbai)\n115.114.115.7 (India Hyderabad)\n213.19.144.110 (Amsterdam Netherlands)\n213.244.140.110 (Germany)\n103.122.166.55 (Australia Sydney)\n103.122.167.55 (Australia Melbourne)\n64.211.144.160 (Brazil)\n69.174.57.160 (Canada Toronto)\n65.39.152.160 (Canada Vancouver)\n207.226.132.110 (Japan Tokyo)\n149.137.24.110 (Japan Osaka)\nMeeting ID: 966 7132 3188\nPasscode: 657990 \n──────────
URL:https://rpm.physics.lbl.gov/event/special-research-progress-meeting-boryana-hadzhiyska-harvard-tba/
LOCATION:Zoom Talk\, 50A-5132\, Berkeley\, ca\, 94720
END:VEVENT
END:VCALENDAR