BEGIN:VCALENDAR
VERSION:2.0
PRODID:-//LBNL Physics Division Research Progress Meetings - ECPv6.8.3//NONSGML v1.0//EN
CALSCALE:GREGORIAN
METHOD:PUBLISH
X-WR-CALNAME:LBNL Physics Division Research Progress Meetings
X-ORIGINAL-URL:https://rpm.physics.lbl.gov
X-WR-CALDESC:Events for LBNL Physics Division Research Progress Meetings
REFRESH-INTERVAL;VALUE=DURATION:PT1H
X-Robots-Tag:noindex
X-PUBLISHED-TTL:PT1H
BEGIN:VTIMEZONE
TZID:UTC
BEGIN:STANDARD
TZOFFSETFROM:+0000
TZOFFSETTO:+0000
TZNAME:UTC
DTSTART:20210101T000000
END:STANDARD
END:VTIMEZONE
BEGIN:VEVENT
DTSTART;TZID=UTC:20211202T160000
DTEND;TZID=UTC:20211202T170000
DTSTAMP:20260424T084146
CREATED:20211123T162150Z
LAST-MODIFIED:20211123T162150Z
UID:1751-1638460800-1638464400@rpm.physics.lbl.gov
SUMMARY:Brendon Aurele Bullard (Harvard) “Toward Precision Measurements of the Higgs Yukawa Couplings” 
DESCRIPTION:Abstract: \nWith the discovery of the Higgs boson in 2012\, high energy physics has entered an era in which all fundamental particles predicted by the Standard Model have been observed. With no conclusive observations of physics beyond the Standard Model\, precision tests of the properties of the Higgs boson are key to find indications of new physics. I will discuss the program of precision measurements of the Higgs Yukawa coupling strengths with the ATLAS experiment\, focusing on those of the muon and top quark. I will give an overview of the search for Higgs decays in the dimuon channel with an emphasis on the novel use of quark/gluon tagging in an ATLAS Higgs measurement. Secondly\, I will present the status and outlook for the joint measurement of ttW and ttH production in multi-lepton final states with an emphasis on ttW modeling\, fake lepton estimation\, and profile-likelihood unfolding. Finally\, I will discuss the importance of the High Luminosity LHC for these physics goals in terms of sensitivity projections and the extension of tracking instrumentation provided by the ATLAS ITk upgrade. \n\n\nhttp://physics.lbl.gov/rpm/index.php/events/ \nIf you are looking to confirm if there is an event\, due to room reservation\, please go to RPM website for a list of all scheduled talks.\n──────────\nTroy Cortez is inviting you to a scheduled Zoom meeting. \nJoin Zoom Meeting\nhttps://lbnl.zoom.us/j/95034216019?pwd=ZHNzZE0wcFBmdDczUTdpenBNZ0NNZz09 \nMeeting ID: 950 3421 6019\nPasscode: 999283\nOne tap mobile\n+16699006833\,\,95034216019#\,\,\,\,*999283# US (San Jose)\n+13462487799\,\,95034216019#\,\,\,\,*999283# US (Houston) \nDial by your location\n+1 669 900 6833 US (San Jose)\n+1 346 248 7799 US (Houston)\n+1 253 215 8782 US (Tacoma)\n+1 646 558 8656 US (New York)\n+1 301 715 8592 US (Washington DC)\n+1 312 626 6799 US (Chicago)\nMeeting ID: 950 3421 6019\nPasscode: 999283\nFind your local number: https://lbnl.zoom.us/u/adAIBZwhD4 \nJoin by SIP\n95034216019@zoomcrc.com \nJoin by H.323\n162.255.37.11 (US West)\n162.255.36.11 (US East)\n115.114.131.7 (India Mumbai)\n115.114.115.7 (India Hyderabad)\n213.19.144.110 (Amsterdam Netherlands)\n213.244.140.110 (Germany)\n103.122.166.55 (Australia Sydney)\n103.122.167.55 (Australia Melbourne)\n64.211.144.160 (Brazil)\n69.174.57.160 (Canada Toronto)\n65.39.152.160 (Canada Vancouver)\n207.226.132.110 (Japan Tokyo)\n149.137.24.110 (Japan Osaka)\nMeeting ID: 950 3421 6019\nPasscode: 999283 \n──────────
URL:https://rpm.physics.lbl.gov/event/brendon-aurele-bullard-harvard-toward-precision-measurements-of-the-higgs-yukawa-couplings/
LOCATION:Zoom Talk\, 50A-5132\, Berkeley\, ca\, 94720
END:VEVENT
END:VCALENDAR