BEGIN:VCALENDAR
VERSION:2.0
PRODID:-//LBNL Physics Division Research Progress Meetings - ECPv6.8.3//NONSGML v1.0//EN
CALSCALE:GREGORIAN
METHOD:PUBLISH
X-WR-CALNAME:LBNL Physics Division Research Progress Meetings
X-ORIGINAL-URL:https://rpm.physics.lbl.gov
X-WR-CALDESC:Events for LBNL Physics Division Research Progress Meetings
REFRESH-INTERVAL;VALUE=DURATION:PT1H
X-Robots-Tag:noindex
X-PUBLISHED-TTL:PT1H
BEGIN:VTIMEZONE
TZID:UTC
BEGIN:STANDARD
TZOFFSETFROM:+0000
TZOFFSETTO:+0000
TZNAME:UTC
DTSTART:20210101T000000
END:STANDARD
END:VTIMEZONE
BEGIN:VEVENT
DTSTART;TZID=UTC:20211216T160000
DTEND;TZID=UTC:20211216T170000
DTSTAMP:20260424T084207
CREATED:20211208T175447Z
LAST-MODIFIED:20211208T175447Z
UID:1792-1639670400-1639674000@rpm.physics.lbl.gov
SUMMARY:Afroditi Papadopolou (Massachusetts Institute of Technology) Lepton-Nucleus Scattering Constraints For Neutrino Interactions And Oscillations
DESCRIPTION:Abstract: \nNeutrinos exist in one of three types or “flavors” (νe \,νµ or ντ )\, which oscillate from one to another when propagating through space. This phenomenon is one of the few that cannot be described using the Standard Model of particle physics and its study can thus provide new insight into the nature of our universe. As neutrinos interact only via the weak force\, they are experimentally detected only following their interactions with atomic nuclei. Our understanding of such interactions is crucial for measuring neutrino oscillations. In this talk I will review key open questions in the study of neutrino oscillations that drive the need for improved understanding of neutrino-nucleus interactions. I will then present our studies of such interactions using both neutrino and electron beams with the MicroBooNE and CLAS detectors and their impact on next-generation high-precision neutrino oscillation measurements with the DUNE and Hyper-Kamiokande experiments. \n\n\nhttp://physics.lbl.gov/rpm/index.php/events/\n\nIf you are looking to confirm if there is an event\, due to room reservation\, please go to RPM website for a list of all scheduled talks.\n──────────\nTroy Cortez is inviting you to a scheduled Zoom meeting. \nJoin Zoom Meeting\nhttps://lbnl.zoom.us/j/98561784665?pwd=MGtaM3Q4bVREZUMyM2hROWxHS0VPUT09 \nMeeting ID: 985 6178 4665\nPasscode: 573951\nOne tap mobile\n+16699006833\,\,98561784665#\,\,\,\,*573951# US (San Jose)\n+13462487799\,\,98561784665#\,\,\,\,*573951# US (Houston) \nDial by your location\n+1 669 900 6833 US (San Jose)\n+1 346 248 7799 US (Houston)\n+1 253 215 8782 US (Tacoma)\n+1 312 626 6799 US (Chicago)\n+1 646 558 8656 US (New York)\n+1 301 715 8592 US (Washington DC)\nMeeting ID: 985 6178 4665\nPasscode: 573951\nFind your local number: https://lbnl.zoom.us/u/aci5dxJ6xq \nJoin by SIP\n98561784665@zoomcrc.com \nJoin by H.323\n162.255.37.11 (US West)\n162.255.36.11 (US East)\n115.114.131.7 (India Mumbai)\n115.114.115.7 (India Hyderabad)\n213.19.144.110 (Amsterdam Netherlands)\n213.244.140.110 (Germany)\n103.122.166.55 (Australia Sydney)\n103.122.167.55 (Australia Melbourne)\n64.211.144.160 (Brazil)\n69.174.57.160 (Canada Toronto)\n65.39.152.160 (Canada Vancouver)\n207.226.132.110 (Japan Tokyo)\n149.137.24.110 (Japan Osaka)\nMeeting ID: 985 6178 4665\nPasscode: 573951 \n──────────
URL:https://rpm.physics.lbl.gov/event/afroditi-papadopolou-massachusetts-institute-of-technology-lepton-nucleus-scattering-constraints-for-neutrino-interactions-and-oscillations/
LOCATION:Zoom Talk\, 50A-5132\, Berkeley\, ca\, 94720
END:VEVENT
END:VCALENDAR