BEGIN:VCALENDAR
VERSION:2.0
PRODID:-//LBNL Physics Division Research Progress Meetings - ECPv6.8.3//NONSGML v1.0//EN
CALSCALE:GREGORIAN
METHOD:PUBLISH
X-WR-CALNAME:LBNL Physics Division Research Progress Meetings
X-ORIGINAL-URL:https://rpm.physics.lbl.gov
X-WR-CALDESC:Events for LBNL Physics Division Research Progress Meetings
REFRESH-INTERVAL;VALUE=DURATION:PT1H
X-Robots-Tag:noindex
X-PUBLISHED-TTL:PT1H
BEGIN:VTIMEZONE
TZID:UTC
BEGIN:STANDARD
TZOFFSETFROM:+0000
TZOFFSETTO:+0000
TZNAME:UTC
DTSTART:20220101T000000
END:STANDARD
END:VTIMEZONE
BEGIN:VEVENT
DTSTART;TZID=UTC:20220317T160000
DTEND;TZID=UTC:20220317T170000
DTSTAMP:20260424T001550
CREATED:20220314T153905Z
LAST-MODIFIED:20220314T164022Z
UID:1835-1647532800-1647536400@rpm.physics.lbl.gov
SUMMARY:Roger O'Brient (U. Washington) "Superconducting Detectors for Cosmology and Ultra-High Energy Physics"
DESCRIPTION:Abstract:\nThe BICEP program has thus far constrained the tensor scalar ratio r<0.036\, approaching the gravitational lensing floor.  This was possible in large part because of innovations in detector technology at JPL.  In my talk\, I will describe the antenna-coupled TES bolometers used in BICEP and how JPL as played this vital role in the project.  I’ll provide some context of how they fit into similar technologies from peer institutions\, and how some of the lessons learned in BICEP may be transferable to CMB S4.  Finally\, I’ll describe how the next generation of resonator-based detectors will enable future missions and experiments in far-IR and millimeter wave astrophysics.\n\n\n\n\nhttp://physics.lbl.gov/rpm/index.php/events/ \nIf you are looking to confirm if there is an event\, due to room reservation\, please go to RPM website for a list of all scheduled talks. \n\n──────────\nTroy Cortez is inviting you to a scheduled Zoom meeting. \nJoin Zoom Meeting\nhttps://lbnl.zoom.us/j/97074529102?pwd=K2FyOUI4OGFrOWswT1ZYZTlzTzV3UT09 \nMeeting ID: 970 7452 9102\nPasscode: 674004\nOne tap mobile\n+16699006833\,\,97074529102#\,\,\,\,*674004# US (San Jose)\n+12133388477\,\,97074529102#\,\,\,\,*674004# US (Los Angeles) \nDial by your location\n+1 669 900 6833 US (San Jose)\n+1 213 338 8477 US (Los Angeles)\n+1 669 219 2599 US (San Jose)\n+1 346 248 7799 US (Houston)\n+1 602 753 0140 US (Phoenix)\n+1 720 928 9299 US (Denver)\n+1 971 247 1195 US (Portland)\n+1 206 337 9723 US (Seattle)\n+1 253 215 8782 US (Tacoma)\n+1 786 635 1003 US (Miami)\n+1 267 831 0333 US (Philadelphia)\n+1 301 715 8592 US (Washington DC)\n+1 312 626 6799 US (Chicago)\n+1 470 250 9358 US (Atlanta)\n+1 470 381 2552 US (Atlanta)\n+1 646 518 9805 US (New York)\n+1 646 558 8656 US (New York)\n+1 651 372 8299 US (Minnesota)\nMeeting ID: 970 7452 9102\nPasscode: 674004\nFind your local number: https://lbnl.zoom.us/u/ayA29i6Kr \nJoin by SIP\n97074529102@zoomcrc.com \nJoin by H.323\n162.255.37.11 (US West)\n162.255.36.11 (US East)\n115.114.131.7 (India Mumbai)\n115.114.115.7 (India Hyderabad)\n213.19.144.110 (Amsterdam Netherlands)\n213.244.140.110 (Germany)\n103.122.166.55 (Australia Sydney)\n103.122.167.55 (Australia Melbourne)\n64.211.144.160 (Brazil)\n69.174.57.160 (Canada Toronto)\n65.39.152.160 (Canada Vancouver)\n207.226.132.110 (Japan Tokyo)\n149.137.24.110 (Japan Osaka)\nMeeting ID: 970 7452 9102\nPasscode: 674004 \n──────────
URL:https://rpm.physics.lbl.gov/event/roger-obrient-u-washington-superconducting-detectors-for-cosmology-ads-ultra-high-energy-physics/
LOCATION:Zoom Talk\, 50A-5132\, Berkeley\, ca\, 94720
END:VEVENT
END:VCALENDAR