BEGIN:VCALENDAR
VERSION:2.0
PRODID:-//LBNL Physics Division Research Progress Meetings - ECPv6.8.3//NONSGML v1.0//EN
CALSCALE:GREGORIAN
METHOD:PUBLISH
X-ORIGINAL-URL:https://rpm.physics.lbl.gov
X-WR-CALDESC:Events for LBNL Physics Division Research Progress Meetings
REFRESH-INTERVAL;VALUE=DURATION:PT1H
X-Robots-Tag:noindex
X-PUBLISHED-TTL:PT1H
BEGIN:VTIMEZONE
TZID:UTC
BEGIN:STANDARD
TZOFFSETFROM:+0000
TZOFFSETTO:+0000
TZNAME:UTC
DTSTART:20220101T000000
END:STANDARD
END:VTIMEZONE
BEGIN:VEVENT
DTSTART;TZID=UTC:20220329T160000
DTEND;TZID=UTC:20220329T170000
DTSTAMP:20260423T185657
CREATED:20220322T225722Z
LAST-MODIFIED:20220323T211625Z
UID:1841-1648569600-1648573200@rpm.physics.lbl.gov
SUMMARY:Kaori Fuyuto (LANL) "A Cross-Frontier Quest to Reveal the Origin of the Universe"
DESCRIPTION:Abstract: \n\n\nThe Standard Model (SM) is the most well-tested theory of elementary particles that make up the known Universe. However\, there are still some major puzzles that cannot be accounted for by the SM in our Universe\, e.g.\, matter-antimatter asymmetry of the Universe and the origin of neutrino mass. Solving these puzzles require physics beyond the SM (BSM)\, which is searched for in a variety of frontiers today. In this talk\, I will discuss how BSM physics\, which could provide solutions to the above mysteries\, can be probed at both energy and intensity frontiers\, i.e.\, the Higgs coupling measurements in collider experiments and LFV searches at the Electron-Ion Collider.\n\n\n\n──────────\nTroy Cortez is inviting you to a scheduled Zoom meeting.Join Zoom Meeting\nhttps://lbnl.zoom.us/j/94456986488?pwd=T2Y5MnZLdW1aenJrVWJVcmwvMTZ3QT09 \nMeeting ID: 944 5698 6488\nPasscode: 173732\nOne tap mobile\n+16692192599\,\,94456986488#\,\,\,\,*173732# US (San Jose)\n+16699006833\,\,94456986488#\,\,\,\,*173732# US (San Jose) \nDial by your location\n+1 669 219 2599 US (San Jose)\n+1 669 900 6833 US (San Jose)\n+1 213 338 8477 US (Los Angeles)\n+1 720 928 9299 US (Denver)\n+1 971 247 1195 US (Portland)\n+1 206 337 9723 US (Seattle)\n+1 253 215 8782 US (Tacoma)\n+1 346 248 7799 US (Houston)\n+1 602 753 0140 US (Phoenix)\n+1 301 715 8592 US (Washington DC)\n+1 312 626 6799 US (Chicago)\n+1 470 250 9358 US (Atlanta)\n+1 470 381 2552 US (Atlanta)\n+1 646 518 9805 US (New York)\n+1 646 558 8656 US (New York)\n+1 651 372 8299 US (Minnesota)\n+1 786 635 1003 US (Miami)\n+1 267 831 0333 US (Philadelphia)\nMeeting ID: 944 5698 6488\nPasscode: 173732\nFind your local number: https://lbnl.zoom.us/u/aYqcyDruC \nJoin by SIP\n94456986488@zoomcrc.com \nJoin by H.323\n162.255.37.11 (US West)\n162.255.36.11 (US East)\n115.114.131.7 (India Mumbai)\n115.114.115.7 (India Hyderabad)\n213.19.144.110 (Amsterdam Netherlands)\n213.244.140.110 (Germany)\n103.122.166.55 (Australia Sydney)\n103.122.167.55 (Australia Melbourne)\n64.211.144.160 (Brazil)\n69.174.57.160 (Canada Toronto)\n65.39.152.160 (Canada Vancouver)\n207.226.132.110 (Japan Tokyo)\n149.137.24.110 (Japan Osaka)\nMeeting ID: 944 5698 6488\nPasscode: 173732 \n──────────
URL:https://rpm.physics.lbl.gov/event/kaori-fuyuto-lanl-tba/
LOCATION:HYBRID 50A-5132 (Sessler Conference Room)\, https://lbnl.zoom.us/j/91782268585\, 50A-5132
END:VEVENT
END:VCALENDAR