BEGIN:VCALENDAR
VERSION:2.0
PRODID:-//LBNL Physics Division Research Progress Meetings - ECPv6.8.3//NONSGML v1.0//EN
CALSCALE:GREGORIAN
METHOD:PUBLISH
X-ORIGINAL-URL:https://rpm.physics.lbl.gov
X-WR-CALDESC:Events for LBNL Physics Division Research Progress Meetings
REFRESH-INTERVAL;VALUE=DURATION:PT1H
X-Robots-Tag:noindex
X-PUBLISHED-TTL:PT1H
BEGIN:VTIMEZONE
TZID:UTC
BEGIN:STANDARD
TZOFFSETFROM:+0000
TZOFFSETTO:+0000
TZNAME:UTC
DTSTART:20220101T000000
END:STANDARD
END:VTIMEZONE
BEGIN:VEVENT
DTSTART;TZID=UTC:20220407T160000
DTEND;TZID=UTC:20220407T170000
DTSTAMP:20260423T185700
CREATED:20220404T153515Z
LAST-MODIFIED:20220404T153515Z
UID:1861-1649347200-1649350800@rpm.physics.lbl.gov
SUMMARY:Gustavo Marques Tavares (UMD) "Dark Sector Signals from Extreme Astrophysical Environments"
DESCRIPTION:Abstract: \nDark sectors are well motivated extensions of the Standard Model that can address many of the most important open questions in particle physics\, such as the particle nature of dark matter\, origin of neutrino masses\, and the Higgs hierarchy problem. In many scenarios\, the interactions between the dark sector and the standard model can be very small. For extremely weak interactions\, the best strategy to search for these new states is to look for their signature in extreme astrophysical environments\, such as core-collapse supernovae and neutron star mergers. In this talk\, I will present new signatures that can be used to search for stable and unstable dark sector particles in extreme astrophysical systems\, covering a wide range of parameter space for masses in the MeV-GeV range. \nhttp://physics.lbl.gov/rpm/index.php/events/ \nIf you are looking to confirm if there is an event\, due to room reservation\, please go to RPM website for a list of all scheduled talks.\n──────────\nTroy Cortez is inviting you to a scheduled Zoom meeting. \nJoin Zoom Meeting\nhttps://lbnl.zoom.us/j/93985344273?pwd=M0RPc3dZM1JpWllOb3lHWnNEamZwZz09 \nMeeting ID: 939 8534 4273\nPasscode: 125108\nOne tap mobile\n+12133388477\,\,93985344273#\,\,\,\,*125108# US (Los Angeles)\n+16692192599\,\,93985344273#\,\,\,\,*125108# US (San Jose) \nDial by your location\n+1 213 338 8477 US (Los Angeles)\n+1 669 219 2599 US (San Jose)\n+1 669 900 6833 US (San Jose)\n+1 602 753 0140 US (Phoenix)\n+1 720 928 9299 US (Denver)\n+1 971 247 1195 US (Portland)\n+1 206 337 9723 US (Seattle)\n+1 253 215 8782 US (Tacoma)\n+1 346 248 7799 US (Houston)\n+1 646 558 8656 US (New York)\n+1 651 372 8299 US (Minnesota)\n+1 786 635 1003 US (Miami)\n+1 267 831 0333 US (Philadelphia)\n+1 301 715 8592 US (Washington DC)\n+1 312 626 6799 US (Chicago)\n+1 470 250 9358 US (Atlanta)\n+1 470 381 2552 US (Atlanta)\n+1 646 518 9805 US (New York)\nMeeting ID: 939 8534 4273\nPasscode: 125108\nFind your local number: https://lbnl.zoom.us/u/aVJYot3HB \nJoin by SIP\n93985344273@zoomcrc.com \nJoin by H.323\n162.255.37.11 (US West)\n162.255.36.11 (US East)\n115.114.131.7 (India Mumbai)\n115.114.115.7 (India Hyderabad)\n213.19.144.110 (Amsterdam Netherlands)\n213.244.140.110 (Germany)\n103.122.166.55 (Australia Sydney)\n103.122.167.55 (Australia Melbourne)\n64.211.144.160 (Brazil)\n69.174.57.160 (Canada Toronto)\n65.39.152.160 (Canada Vancouver)\n207.226.132.110 (Japan Tokyo)\n149.137.24.110 (Japan Osaka)\nMeeting ID: 939 8534 4273\nPasscode: 125108 \n──────────
URL:https://rpm.physics.lbl.gov/event/gustavo-marques-tavares-umd-dark-sector-signals-from-extreme-astrophysical-environments/
LOCATION:HYBRID 50A-5132 (Sessler Conference Room)\, https://lbnl.zoom.us/j/91782268585\, 50A-5132
END:VEVENT
END:VCALENDAR