BEGIN:VCALENDAR
VERSION:2.0
PRODID:-//LBNL Physics Division Research Progress Meetings - ECPv6.8.3//NONSGML v1.0//EN
CALSCALE:GREGORIAN
METHOD:PUBLISH
X-WR-CALNAME:LBNL Physics Division Research Progress Meetings
X-ORIGINAL-URL:https://rpm.physics.lbl.gov
X-WR-CALDESC:Events for LBNL Physics Division Research Progress Meetings
REFRESH-INTERVAL;VALUE=DURATION:PT1H
X-Robots-Tag:noindex
X-PUBLISHED-TTL:PT1H
BEGIN:VTIMEZONE
TZID:UTC
BEGIN:STANDARD
TZOFFSETFROM:+0000
TZOFFSETTO:+0000
TZNAME:UTC
DTSTART:20220101T000000
END:STANDARD
END:VTIMEZONE
BEGIN:VEVENT
DTSTART;TZID=UTC:20220411T140000
DTEND;TZID=UTC:20220411T150000
DTSTAMP:20260423T184803
CREATED:20220411T161432Z
LAST-MODIFIED:20220411T161507Z
UID:1866-1649685600-1649689200@rpm.physics.lbl.gov
SUMMARY:Ashutosh Kotwal  (Duke University) "High Precision Measurement of the W-Boson Mass with the CDF II Detector"
DESCRIPTION:***This Research Progress Meeting is scheduled to be a Zoom Talk. Below\, please find the Zoom Meeting information to join the talk.*** \nLawrence Berkeley National Laboratory \nPhysics Division \nSpecial Research Progress Meeting \nMonday\, April 11\, 2022 \nZOOM Talk: https://lbnl.zoom.us/j/99540518328 \n  \nVIRTUAL VIEWING IN 50A-5132 \n2:00 PM \n  \nSpeaker:  Ashutosh Kotwal  (Duke University) \n\nTitle:   High Precision Measurement of the W-Boson Mass with the CDF II Detector \nAbstract:TBA\n──────────\nTroy Cortez is inviting you to a scheduled Zoom meeting. \nJoin Zoom Meeting\nhttps://lbnl.zoom.us/j/99540518328?pwd=OWJzQ1hBc2xLbEJ4YTJwRlBCMUlTZz09 \nMeeting ID: 995 4051 8328\nPasscode: 868251\nOne tap mobile\n+12133388477\,\,99540518328#\,\,\,\,*868251# US (Los Angeles)\n+16692192599\,\,99540518328#\,\,\,\,*868251# US (San Jose) \nDial by your location\n+1 213 338 8477 US (Los Angeles)\n+1 669 219 2599 US (San Jose)\n+1 669 900 6833 US (San Jose)\n+1 206 337 9723 US (Seattle)\n+1 253 215 8782 US (Tacoma)\n+1 346 248 7799 US (Houston)\n+1 602 753 0140 US (Phoenix)\n+1 720 928 9299 US (Denver)\n+1 971 247 1195 US (Portland)\n+1 267 831 0333 US (Philadelphia)\n+1 301 715 8592 US (Washington DC)\n+1 312 626 6799 US (Chicago)\n+1 470 250 9358 US (Atlanta)\n+1 470 381 2552 US (Atlanta)\n+1 646 518 9805 US (New York)\n+1 646 558 8656 US (New York)\n+1 651 372 8299 US (Minnesota)\n+1 786 635 1003 US (Miami)\nMeeting ID: 995 4051 8328\nPasscode: 868251\nFind your local number: https://lbnl.zoom.us/u/adbam6OlO5 \nJoin by SIP\n99540518328@zoomcrc.com \nJoin by H.323\n162.255.37.11 (US West)\n162.255.36.11 (US East)\n115.114.131.7 (India Mumbai)\n115.114.115.7 (India Hyderabad)\n213.19.144.110 (Amsterdam Netherlands)\n213.244.140.110 (Germany)\n103.122.166.55 (Australia Sydney)\n103.122.167.55 (Australia Melbourne)\n64.211.144.160 (Brazil)\n69.174.57.160 (Canada Toronto)\n65.39.152.160 (Canada Vancouver)\n207.226.132.110 (Japan Tokyo)\n149.137.24.110 (Japan Osaka)\nMeeting ID: 995 4051 8328\nPasscode: 868251 \n──────────
URL:https://rpm.physics.lbl.gov/event/ashutosh-kotwal-duke-university-high-precision-measurement-of-the-w-boson-mass-with-the-cdf-ii-detector/
LOCATION:Zoom Talk\, 50A-5132\, Berkeley\, ca\, 94720
END:VEVENT
BEGIN:VEVENT
DTSTART;TZID=UTC:20220411T160000
DTEND;TZID=UTC:20220411T170000
DTSTAMP:20260423T184803
CREATED:20220404T212012Z
LAST-MODIFIED:20220404T212024Z
UID:1863-1649692800-1649696400@rpm.physics.lbl.gov
SUMMARY:Pier Monni (CERN) "Taming the Complex Dynamics of Scattering Events"
DESCRIPTION:Abstract: \n\nThe pioneering investigation of the fundamental laws of nature at the Large Hadron Collider builds upon the interpretation ofcomplex scattering events. Our ability to identify small signals of elusive new phenomena therefore depends on accurate theoretical simulations which describe the evolution of the system from the few\nproduced in the high-energy scattering to the tens or hundreds of low-energy particles observed in the experimental detectors. In this talk\, I will discuss the main theoretical technology behind this endeavour\, that of event generators. I will present a number of recent theoretical innovations that will shape the creation of a new generation of tools\, essential to achieve the outstanding accuracy demanded by collider experiments.\n\n\n──────────\nTroy Cortez is inviting you to a scheduled Zoom meeting. \nJoin Zoom Meeting\nhttps://lbnl.zoom.us/j/96007374638?pwd=VGk3VXdZNVNCZXhCZHBhSVBTTkpnUT09 \nMeeting ID: 960 0737 4638\nPasscode: 335942\nOne tap mobile\n+16692192599\,\,96007374638#\,\,\,\,*335942# US (San Jose)\n+16699006833\,\,96007374638#\,\,\,\,*335942# US (San Jose) \nDial by your location\n+1 669 219 2599 US (San Jose)\n+1 669 900 6833 US (San Jose)\n+1 213 338 8477 US (Los Angeles)\n+1 720 928 9299 US (Denver)\n+1 971 247 1195 US (Portland)\n+1 206 337 9723 US (Seattle)\n+1 253 215 8782 US (Tacoma)\n+1 346 248 7799 US (Houston)\n+1 602 753 0140 US (Phoenix)\n+1 301 715 8592 US (Washington DC)\n+1 312 626 6799 US (Chicago)\n+1 470 250 9358 US (Atlanta)\n+1 470 381 2552 US (Atlanta)\n+1 646 518 9805 US (New York)\n+1 646 558 8656 US (New York)\n+1 651 372 8299 US (Minnesota)\n+1 786 635 1003 US (Miami)\n+1 267 831 0333 US (Philadelphia)\nMeeting ID: 960 0737 4638\nPasscode: 335942\nFind your local number: https://lbnl.zoom.us/u/ac00PgASWv \nJoin by SIP\n96007374638@zoomcrc.com \nJoin by H.323\n162.255.37.11 (US West)\n162.255.36.11 (US East)\n115.114.131.7 (India Mumbai)\n115.114.115.7 (India Hyderabad)\n213.19.144.110 (Amsterdam Netherlands)\n213.244.140.110 (Germany)\n103.122.166.55 (Australia Sydney)\n103.122.167.55 (Australia Melbourne)\n64.211.144.160 (Brazil)\n69.174.57.160 (Canada Toronto)\n65.39.152.160 (Canada Vancouver)\n207.226.132.110 (Japan Tokyo)\n149.137.24.110 (Japan Osaka)\nMeeting ID: 960 0737 4638\nPasscode: 335942 \n──────────
URL:https://rpm.physics.lbl.gov/event/pier-monni-cern-taming-the-complex-dynamics-of-scattering-events/
LOCATION:HYBRID 50A-5132 (Sessler Conference Room)\, https://lbnl.zoom.us/j/91782268585\, 50A-5132
END:VEVENT
END:VCALENDAR