BEGIN:VCALENDAR
VERSION:2.0
PRODID:-//LBNL Physics Division Research Progress Meetings - ECPv6.8.3//NONSGML v1.0//EN
CALSCALE:GREGORIAN
METHOD:PUBLISH
X-ORIGINAL-URL:https://rpm.physics.lbl.gov
X-WR-CALDESC:Events for LBNL Physics Division Research Progress Meetings
REFRESH-INTERVAL;VALUE=DURATION:PT1H
X-Robots-Tag:noindex
X-PUBLISHED-TTL:PT1H
BEGIN:VTIMEZONE
TZID:UTC
BEGIN:STANDARD
TZOFFSETFROM:+0000
TZOFFSETTO:+0000
TZNAME:UTC
DTSTART:20220101T000000
END:STANDARD
END:VTIMEZONE
BEGIN:VEVENT
DTSTART;TZID=UTC:20220428T160000
DTEND;TZID=UTC:20220428T170000
DTSTAMP:20260423T092639
CREATED:20220425T194721Z
LAST-MODIFIED:20220425T195014Z
UID:1873-1651161600-1651165200@rpm.physics.lbl.gov
SUMMARY:Željko Ivezić (Rubin Observatory/University of Washington) "Cosmology with the Greatest Movie of All Time” 
DESCRIPTION:Abstract:\n\nThe Legacy Survey of Space and Time (LSST)\, the first project to be undertaken\nat the new Vera C. Rubin Observatory\, will be the most comprehensive optical\nastronomical survey ever undertaken. Starting in 2024\, Rubin Observatory will\nobtain panoramic images covering the sky visible from its location in Chile\nevery clear night for ten years. The resulting hundreds of petabytes of imaging\ndata\, essentially a digital color movie of the night sky\, will include about\n40 billion stars and galaxies\, and will be used for investigations ranging\nfrom cataloging dangerous near-Earth asteroids to fundamental physics such as\ncharacterization of dark matter and dark energy. I will start the presentation\nwith an overview of LSST science drivers and system design\, and continue with\na construction status report for the Rubin Observatory. I will conclude with a brief\ndiscussion of synergies between Rubin\, Euclid\, and Roman Space Telescope.\n\n\n\n\nhttp://physics.lbl.gov/rpm/index.php/events/ \nIf you are looking to confirm if there is an event\, due to room reservation\, please go to RPM website for a list of all scheduled talks.\n──────────\nTroy Cortez is inviting you to a scheduled Zoom meeting. \nJoin Zoom Meeting\nhttps://lbnl.zoom.us/j/91782268585 \nMeeting ID: 917 8226 8585\nOne tap mobile\n+16699006833\,\,91782268585# US (San Jose)\n+13462487799\,\,91782268585# US (Houston) \nDial by your location\n+1 669 900 6833 US (San Jose)\n+1 346 248 7799 US (Houston)\n+1 253 215 8782 US (Tacoma)\n+1 646 558 8656 US (New York)\n+1 301 715 8592 US (Germantown)\n+1 312 626 6799 US (Chicago)\nMeeting ID: 917 8226 8585\nFind your local number: https://lbnl.zoom.us/u/abeLb1T4q1 \nJoin by SIP\n91782268585@zoomcrc.com \nJoin by H.323\n162.255.37.11 (US West)\n162.255.36.11 (US East)\n115.114.131.7 (India Mumbai)\n115.114.115.7 (India Hyderabad)\n213.19.144.110 (EMEA)\n103.122.166.55 (Australia)\n64.211.144.160 (Brazil)\n69.174.57.160 (Canada)\n207.226.132.110 (Japan)\nMeeting ID: 917 8226 8585 \n──────────
URL:https://rpm.physics.lbl.gov/event/zeljko-ivezic-rubin-observatory-university-of-washington-cosmology-with-the-greatest-movie-of-all-time/
LOCATION:HYBRID 50A-5132 (Sessler Conference Room)\, https://lbnl.zoom.us/j/91782268585\, 50A-5132
END:VEVENT
END:VCALENDAR