BEGIN:VCALENDAR
VERSION:2.0
PRODID:-//LBNL Physics Division Research Progress Meetings - ECPv6.8.3//NONSGML v1.0//EN
CALSCALE:GREGORIAN
METHOD:PUBLISH
X-ORIGINAL-URL:https://rpm.physics.lbl.gov
X-WR-CALDESC:Events for LBNL Physics Division Research Progress Meetings
REFRESH-INTERVAL;VALUE=DURATION:PT1H
X-Robots-Tag:noindex
X-PUBLISHED-TTL:PT1H
BEGIN:VTIMEZONE
TZID:UTC
BEGIN:STANDARD
TZOFFSETFROM:+0000
TZOFFSETTO:+0000
TZNAME:UTC
DTSTART:20220101T000000
END:STANDARD
END:VTIMEZONE
BEGIN:VEVENT
DTSTART;TZID=UTC:20220728T160000
DTEND;TZID=UTC:20220728T170000
DTSTAMP:20260422T164910
CREATED:20220428T195808Z
LAST-MODIFIED:20220428T201544Z
UID:1880-1659024000-1659027600@rpm.physics.lbl.gov
SUMMARY:Samir Gambhir and Stephen Menendian\, UCB - The Inclusiveness Index
DESCRIPTION:The Physics IDEA Committee has invited Samir Gambhir\, Director of the Equity Metrics Program\, and Stephen Menendian\, Assistant Director\, members of the Othering & Belonging Institute\, University of California\, Berkeley\, will present their findings on the Inclusiveness Index. They have ranked every US state (and 133 countries) by their levels of inclusion. \nThe Inclusiveness Index examines inclusivity in terms of race\, religion\, gender (sex)\, sexual orientation\, and disability\, among other social groups using several measures. These include outgroup violence; political representation; income inequality; anti-discrimination laws; rates of incarceration; and immigration/asylum policies. \nThis will be an LBNL Hybrid Event: \nJoin Zoom Meeting\nhttps://lbnl.zoom.us/j/91782268585\nMeeting ID: 917 8226 8585 \nConference Room: 50A-5132
URL:https://rpm.physics.lbl.gov/event/samir-gambhir-and-stephen-menendian-ucb-the-inclusiveness-index/
LOCATION:HYBRID 50A-5132 (Sessler Conference Room)\, https://lbnl.zoom.us/j/91782268585\, 50A-5132
END:VEVENT
END:VCALENDAR