BEGIN:VCALENDAR
VERSION:2.0
PRODID:-//LBNL Physics Division Research Progress Meetings - ECPv6.8.3//NONSGML v1.0//EN
CALSCALE:GREGORIAN
METHOD:PUBLISH
X-WR-CALNAME:LBNL Physics Division Research Progress Meetings
X-ORIGINAL-URL:https://rpm.physics.lbl.gov
X-WR-CALDESC:Events for LBNL Physics Division Research Progress Meetings
REFRESH-INTERVAL;VALUE=DURATION:PT1H
X-Robots-Tag:noindex
X-PUBLISHED-TTL:PT1H
BEGIN:VTIMEZONE
TZID:UTC
BEGIN:STANDARD
TZOFFSETFROM:+0000
TZOFFSETTO:+0000
TZNAME:UTC
DTSTART:20220101T000000
END:STANDARD
END:VTIMEZONE
BEGIN:VEVENT
DTSTART;TZID=UTC:20221013T160000
DTEND;TZID=UTC:20221013T170000
DTSTAMP:20260422T004635
CREATED:20221013T205125Z
LAST-MODIFIED:20221013T205125Z
UID:1945-1665676800-1665680400@rpm.physics.lbl.gov
SUMMARY:SPECIAL RPM - Physics Division |  How to Land a Faculty Position: A Panel Discussion with Senior Scientists in the Physics Division
DESCRIPTION:In this panel discussion postdocs and students will have the opportunity to ask senior division scientists about how the faculty hiring process typically works and labs and universities\, and how to put together a winning faculty application. The panelists will be \nNathalie Palanque-Delabrouille (Division director)\nChristian Bauer (Theory)\nMarjorie Shapiro (ATLAS)\nDave Brown (Mu2e)\nPeter Sorensen (LZ) \nTogether they have about a century worth of experience with hiring panels\, in a variety of fields and settings (universities + laboratories). Most of the time will be reserved for interactions with the audience\, so bring along all your questions about finding permanent positions in academia \nhttp://physics.lbl.gov/rpm/index.php/events/\nIf you are looking to confirm if there is an event\, due to room reservation\, please go to RPM website for a list of all scheduled talks.\n──────────\nTroy Cortez is inviting you to a scheduled Zoom meeting. \nJoin Zoom Meeting\nhttps://lbnl.zoom.us/j/91782268585 \nMeeting ID: 917 8226 8585\nOne tap mobile\n+16699006833\,\,91782268585# US (San Jose)\n+13462487799\,\,91782268585# US (Houston) \nDial by your location\n+1 669 900 6833 US (San Jose)\n+1 346 248 7799 US (Houston)\n+1 253 215 8782 US (Tacoma)\n+1 646 558 8656 US (New York)\n+1 301 715 8592 US (Germantown)\n+1 312 626 6799 US (Chicago)\nMeeting ID: 917 8226 8585\nFind your local number: https://lbnl.zoom.us/u/abeLb1T4q1 \nJoin by SIP\n91782268585@zoomcrc.com \nJoin by H.323\n162.255.37.11 (US West)\n162.255.36.11 (US East)\n115.114.131.7 (India Mumbai)\n115.114.115.7 (India Hyderabad)\n213.19.144.110 (EMEA)\n103.122.166.55 (Australia)\n64.211.144.160 (Brazil)\n69.174.57.160 (Canada)\n207.226.132.110 (Japan)\nMeeting ID: 917 8226 8585 \n──────────
URL:https://rpm.physics.lbl.gov/event/special-rpm-physics-division-how-to-land-a-faculty-position-a-panel-discussion-with-senior-scientists-in-the-physics-division/
LOCATION:50-Auditorium
END:VEVENT
END:VCALENDAR