BEGIN:VCALENDAR
VERSION:2.0
PRODID:-//LBNL Physics Division Research Progress Meetings - ECPv6.8.3//NONSGML v1.0//EN
CALSCALE:GREGORIAN
METHOD:PUBLISH
X-WR-CALNAME:LBNL Physics Division Research Progress Meetings
X-ORIGINAL-URL:https://rpm.physics.lbl.gov
X-WR-CALDESC:Events for LBNL Physics Division Research Progress Meetings
REFRESH-INTERVAL;VALUE=DURATION:PT1H
X-Robots-Tag:noindex
X-PUBLISHED-TTL:PT1H
BEGIN:VTIMEZONE
TZID:UTC
BEGIN:STANDARD
TZOFFSETFROM:+0000
TZOFFSETTO:+0000
TZNAME:UTC
DTSTART:20220101T000000
END:STANDARD
END:VTIMEZONE
BEGIN:VEVENT
DTSTART;TZID=UTC:20221122T160000
DTEND;TZID=UTC:20221122T170000
DTSTAMP:20260421T184355
CREATED:20221118T030802Z
LAST-MODIFIED:20221118T030802Z
UID:2018-1669132800-1669136400@rpm.physics.lbl.gov
SUMMARY:SPEAKER: Chen-Hsun (Jay) Chan - University of Wisconsin\, Madison - TITLE: Search for Higgs Boson Decaying to Dimuon
DESCRIPTION:This is an IN-PERSON Event \nLocation: Sessler Conference Room – 50A-5132 \nTITLE: Search for Higgs Boson Decaying to Dimuon \nABSTRACT: \nThe search for Higgs boson decaying to dimuon is currently the most promising channel to probe the Yukawa coupling to the second-generation fermions. In this seminar\, I will give an overview of the recent search for Higgs boson decaying to dimuon\, using the proton-proton collision data collected by the ATLAS detector between 2015 and 2018. Despite excellent muon reconstruction\, this search is particularly challenging due to the small Higgs to dimuon decay branching ratio and the large amount of Standard Model background. Multiple techniques are developed in order to overcome the challenges and significantly enhance the sensitivity compared to the previous iteration.\n\nWith more data to be collected in the near future\, it is possible to observe the Higgs to dimuon signal at 5 standard deviation. I will highlight several expected improvements during LHC run-3\, which will benefit this measurement. Furthermore\, the upgrade to High-Luminosity LHC (HL-LHC) will bring a significant improvement to this measurement\, thanks to the increased data statistics as well as the upgrade of the ATLAS Inner Tracker (ITk). I will\, in the end\, discuss the recent development of the ITk pixel upgrade\, particularly the testing of the pixel module serial powering.\n\n\nZOOM Information – \n\n\nJoin Zoom Meeting\nhttps://lbnl.zoom.us/j/91782268585 \nMeeting ID: 917 8226 8585
URL:https://rpm.physics.lbl.gov/event/speaker-chen-hsun-jay-chan-university-of-wisconsin-madison-title-search-for-higgs-boson-decaying-to-dimuon/
LOCATION:HYBRID 50A-5132 (Sessler Conference Room)\, https://lbnl.zoom.us/j/91782268585\, 50A-5132
ORGANIZER;CN="Patrick McDonald":MAILTO:pvmcdonald@lbl.gov
END:VEVENT
END:VCALENDAR