BEGIN:VCALENDAR
VERSION:2.0
PRODID:-//LBNL Physics Division Research Progress Meetings - ECPv6.8.3//NONSGML v1.0//EN
CALSCALE:GREGORIAN
METHOD:PUBLISH
X-ORIGINAL-URL:https://rpm.physics.lbl.gov
X-WR-CALDESC:Events for LBNL Physics Division Research Progress Meetings
REFRESH-INTERVAL;VALUE=DURATION:PT1H
X-Robots-Tag:noindex
X-PUBLISHED-TTL:PT1H
BEGIN:VTIMEZONE
TZID:UTC
BEGIN:STANDARD
TZOFFSETFROM:+0000
TZOFFSETTO:+0000
TZNAME:UTC
DTSTART:20220101T000000
END:STANDARD
END:VTIMEZONE
BEGIN:VEVENT
DTSTART;TZID=UTC:20221201T160000
DTEND;TZID=UTC:20221201T170000
DTSTAMP:20260421T123944
CREATED:20221126T001315Z
LAST-MODIFIED:20221126T002240Z
UID:2052-1669910400-1669914000@rpm.physics.lbl.gov
SUMMARY:SPEAKER: Chamindu (Chami) Amarasinghe – U. of Michigan – TITLE: Expansive Dark Matter Searches with LZ
DESCRIPTION:This is a VIRTUAL Event \nTITLE: Expansive Dark Matter Searches with LZ \n\nABSTRACT: LUX-ZEPLIN (LZ) is an underground direct detection experiment that conducted its first search for Weakly Interacting Massive Particles (WIMPs) and set world-leading upper limits on spin-independent and spin-dependent WIMP-nucleon couplings. In this talk I describe this result\, and discuss how the WIMP search can be extended by considering all possible WIMP-nucleon interactions at the energy scale of direct detection using an effective field theory (EFT) approach. I also describe how tools from machine learning are applied in the EFT search\, and how unsupervised learning can be used to detect anomalies of various sources in data. Finally\, I will briefly discuss an experimental concept to measure electron and photon yields of nuclear recoils in liquid xenon at extremely low energies (below 0.3 keVNR)\, in order to improve the sensitivity of experiments like LZ to low mass WIMPs. \nZOOM Information –\n \n\nJoin Zoom Meeting\nhttps://lbnl.zoom.us/j/91782268585
URL:https://rpm.physics.lbl.gov/event/speaker-chamindu-chami-amarasinghe-u-of-michigan-title-expansive-dark-matter-searches-with-lz/
LOCATION:HYBRID 50A-5132 (Sessler Conference Room)\, https://lbnl.zoom.us/j/91782268585\, 50A-5132
END:VEVENT
END:VCALENDAR