BEGIN:VCALENDAR
VERSION:2.0
PRODID:-//LBNL Physics Division Research Progress Meetings - ECPv6.8.3//NONSGML v1.0//EN
CALSCALE:GREGORIAN
METHOD:PUBLISH
X-WR-CALNAME:LBNL Physics Division Research Progress Meetings
X-ORIGINAL-URL:https://rpm.physics.lbl.gov
X-WR-CALDESC:Events for LBNL Physics Division Research Progress Meetings
REFRESH-INTERVAL;VALUE=DURATION:PT1H
X-Robots-Tag:noindex
X-PUBLISHED-TTL:PT1H
BEGIN:VTIMEZONE
TZID:UTC
BEGIN:STANDARD
TZOFFSETFROM:+0000
TZOFFSETTO:+0000
TZNAME:UTC
DTSTART:20220101T000000
END:STANDARD
END:VTIMEZONE
BEGIN:VEVENT
DTSTART;TZID=UTC:20221205T130000
DTEND;TZID=UTC:20221205T140000
DTSTAMP:20260421T123848
CREATED:20221128T195707Z
LAST-MODIFIED:20221128T195938Z
UID:2059-1670245200-1670248800@rpm.physics.lbl.gov
SUMMARY:SPEAKER: Roger Huang – LBNL – TITLE: Neutrinos from Different Angles
DESCRIPTION:This is an IN-PERSON Event \nLocation: Sessler Conference Room – 50A-5132 \nTITLE: Neutrinos from Different Angles \nABSTRACT: \nThere still remain many outstanding questions about the behavior and properties of neutrinos\, which are the subject of a wide range of experimental programs around the world. CUORE (Cryogenic Underground Observatory for Rare Events) is a cryogenic calorimetric experiment operating at ~10 mK to search for neutrinoless double-beta (0νββ) decay in Te-130\, which could shed light on the nature of neutrino masses and whether they are Majorana particles. I will present the most recent 0νββ results from CUORE\, as well as discuss development of deep-cryogenic electronics aimed towards its next-generation upgrade to CUPID (CUORE Upgrade with Particle ID). \nIn a different regime of neutrino physics\, DUNE (Deep Underground Neutrino Experiment) is a long-baseline neutrino oscillation experiment that will enable a variety of precision measurements\, including determination of the neutrino mass hierarchy and high-resolution probes of the neutrino CP-violating phase factor. I will discuss the current status and plans for DUNE and its upcoming prototype program ProtoDUNE-II\, with a focus on the cryogenic charge readout electronics for the far detectors. I will also discuss efforts to improve neutrino cross-section unfolding methods with the aid of neural networks using the Omnifold technique \n  \n\n\nZOOM Information – \n\nJoin Zoom Meeting\nhttps://lbnl.zoom.us/j/91782268585Meeting ID: 917 8226 8585
URL:https://rpm.physics.lbl.gov/event/speaker-roger-huang-lbnl-title-neutrinos-from-different-angles/
LOCATION:HYBRID 50A-5132 (Sessler Conference Room)\, https://lbnl.zoom.us/j/91782268585\, 50A-5132
END:VEVENT
END:VCALENDAR