BEGIN:VCALENDAR
VERSION:2.0
PRODID:-//LBNL Physics Division Research Progress Meetings - ECPv6.8.3//NONSGML v1.0//EN
CALSCALE:GREGORIAN
METHOD:PUBLISH
X-ORIGINAL-URL:https://rpm.physics.lbl.gov
X-WR-CALDESC:Events for LBNL Physics Division Research Progress Meetings
REFRESH-INTERVAL;VALUE=DURATION:PT1H
X-Robots-Tag:noindex
X-PUBLISHED-TTL:PT1H
BEGIN:VTIMEZONE
TZID:UTC
BEGIN:STANDARD
TZOFFSETFROM:+0000
TZOFFSETTO:+0000
TZNAME:UTC
DTSTART:20220101T000000
END:STANDARD
END:VTIMEZONE
BEGIN:VEVENT
DTSTART;TZID=UTC:20221207T130000
DTEND;TZID=UTC:20221207T140000
DTSTAMP:20260421T123951
CREATED:20221201T182453Z
LAST-MODIFIED:20221201T182453Z
UID:2085-1670418000-1670421600@rpm.physics.lbl.gov
SUMMARY:SPEAKER: Ciaran Hasnip – University of Oxford – TITLE: The DUNE Neutrino PRISM
DESCRIPTION:This is an IN-PERSON Event \nLocation: Sessler Conference Room – 50A-5132 \nTITLE: The DUNE Neutrino PRISM \nABSTRACT: \nThe observation of neutrino flavour oscillations\, and the non-zero neutrino mass\, is the first confirmed measurement of physics beyond the standard model of particle physics. The Deep Underground Neutrino Experiment (DUNE) is a next-generation neutrino experiment designed to study these flavour oscillations in a 1300 km baseline neutrino beam. DUNE aims to measure CP violation in the lepton sector\, determine the neutrino mass hierarchy and precisely measure the neutrino oscillation parameters in a single experiment. The Precision Reaction Independent Spectrum Measurement (PRISM) concept presents a novel way to perform a neutrino oscillation analysis\, which has the potential to significantly reduce the impact of neutrino cross section systematic uncertainties in DUNE through the use of data-driven predictions of the measured neutrino event rate. After introducing the physics of neutrino oscillations\, this seminar will review the DUNE experiment and the role PRISM will play in its physics program.  \nZOOM Information – \n\nJoin Zoom Meeting\nhttps://lbnl.zoom.us/j/91782268585\nMeeting ID: 917 8226 8585
URL:https://rpm.physics.lbl.gov/event/speaker-ciaran-hasnip-university-of-oxford-title-the-dune-neutrino-prism/
END:VEVENT
END:VCALENDAR