BEGIN:VCALENDAR
VERSION:2.0
PRODID:-//LBNL Physics Division Research Progress Meetings - ECPv6.8.3//NONSGML v1.0//EN
CALSCALE:GREGORIAN
METHOD:PUBLISH
X-WR-CALNAME:LBNL Physics Division Research Progress Meetings
X-ORIGINAL-URL:https://rpm.physics.lbl.gov
X-WR-CALDESC:Events for LBNL Physics Division Research Progress Meetings
REFRESH-INTERVAL;VALUE=DURATION:PT1H
X-Robots-Tag:noindex
X-PUBLISHED-TTL:PT1H
BEGIN:VTIMEZONE
TZID:UTC
BEGIN:STANDARD
TZOFFSETFROM:+0000
TZOFFSETTO:+0000
TZNAME:UTC
DTSTART:20220101T000000
END:STANDARD
END:VTIMEZONE
BEGIN:VEVENT
DTSTART;TZID=UTC:20221208T160000
DTEND;TZID=UTC:20221208T170000
DTSTAMP:20260421T123855
CREATED:20221201T181408Z
LAST-MODIFIED:20221201T181915Z
UID:2077-1670515200-1670518800@rpm.physics.lbl.gov
SUMMARY:SPEAKER: Jaafar Chakrani – Laboratoire Leprince-Ringuet\, CNRS\, Ecole polytechnique – TITLE: Neutrino interactions: a challenge for T2K and beyond
DESCRIPTION:This is an IN-PERSON Event \nLocation: Sessler Conference Room – 50A-5132 \nTITLE: Neutrino interactions: a challenge for T2K and beyond \nABSTRACT: \nNeutrino oscillations offer a unique opportunity to explore physics beyond the Standard Model. Multiple current and planned experiments aim at precisely characterizing these oscillations with neutrinos artificially produced in accelerators. This is the case of the T2K experiment\, located in Japan\, which provides one of the world-leading constraints on how neutrinos oscillate.\nAn important obstacle in the making of such results is the modeling of neutrino interactions which could bias oscillation measurements. Indeed\, the uncertainties associated with neutrino-nucleus interactions are difficult to quantify and constrain as they cover a large range of poorly-understood nuclear physics of how neutrinos interact. \nIn this seminar\, I will present how accelerator-based neutrino experiments measure these oscillations\, with a focus on how we tackle the challenge of modeling neutrino-nucleus interactions in the T2K experiment. Furthermore\, I will show how the ongoing upgrade of the T2K near detector will provide valuable information to significantly improve our understanding of neutrino interactions. Finally\, I will discuss the prospects of overcoming this challenge in the context of the next-generation experiment DUNE. \n  \nZOOM Information – \n\nJoin Zoom Meeting\nhttps://lbnl.zoom.us/j/91782268585\nMeeting ID: 917 8226 8585
URL:https://rpm.physics.lbl.gov/event/speaker-ciaran-hasnip-univ-of-oxford-title-the-dune-neutrino-prism/
END:VEVENT
END:VCALENDAR