BEGIN:VCALENDAR
VERSION:2.0
PRODID:-//LBNL Physics Division Research Progress Meetings - ECPv6.8.3//NONSGML v1.0//EN
CALSCALE:GREGORIAN
METHOD:PUBLISH
X-WR-CALNAME:LBNL Physics Division Research Progress Meetings
X-ORIGINAL-URL:https://rpm.physics.lbl.gov
X-WR-CALDESC:Events for LBNL Physics Division Research Progress Meetings
REFRESH-INTERVAL;VALUE=DURATION:PT1H
X-Robots-Tag:noindex
X-PUBLISHED-TTL:PT1H
BEGIN:VTIMEZONE
TZID:UTC
BEGIN:STANDARD
TZOFFSETFROM:+0000
TZOFFSETTO:+0000
TZNAME:UTC
DTSTART:20260101T000000
END:STANDARD
END:VTIMEZONE
BEGIN:VEVENT
DTSTART;TZID=UTC:20260423T160000
DTEND;TZID=UTC:20260423T170000
DTSTAMP:20260420T084117
CREATED:20260417T162953Z
LAST-MODIFIED:20260417T162953Z
UID:3112-1776960000-1776963600@rpm.physics.lbl.gov
SUMMARY:Speaker: Ritoban Basu Thakur (JPL) - Title: Quantum sensing\, Dark Matter Searches & Astrophysics in the Far-IR.
DESCRIPTION:Research Progress Meeting \nDate: April 23\, 2026 \nTime: 4:00- 5:00 pm \nLocation: Sessler Conference Room- 50A-5132 [In-Person and HYBRID]  \nSpeaker: Ritoban Basu Thakur (JPL) \nTitle: Quantum sensing\, Dark Matter Searches & Astrophysics in the Far-IR. \nAbstract: Advances in superconducting kinetic inductance detectors (KIDs) are opening new windows in both astrophysics and fundamental physics. This talk presents two connected applications at the frontier of photon sensitivity. (i) For PRIMA\, the PRobe far-Infrared Mission for Astrophysics\, we have developed single-photon-sensitive KID arrays operating at 25 μm. This first photon-counting array demonstrated in the 3–18 THz band\, will enable background-limited imaging and spectroscopy for a cryogenic space telescope targeting galaxy evolution\, planet formation\, and cosmic dust. (ii) QUALIPHIDE (QUAntum LImited PHotons In the Dark Experiment) applies these photon-counting MKIDs to search for hidden photon dark matter beyond the standard quantum limit\, which will also empower broadband experiments such as BREAD. Basu Thakur’s group is also developing nonlinear kinetic inductance devices for advanced quantum sensing\, promising a new generation of THz detectors that will serve both next-decade astrophysics observatories and unexplored dark matter phase space. \nhttps://lbnl.zoom.us/j/98854322464?pwd=K2tKUm1VZjRlV1J5RHE3cXdHQzRxdz09 \nMeeting ID: 988 5432 2464\n\nPasscode: 142239
URL:https://rpm.physics.lbl.gov/event/speaker-ritoban-basu-thakur-jpl-title-quantum-sensing-dark-matter-searches-astrophysics-in-the-far-ir/
END:VEVENT
END:VCALENDAR