BEGIN:VCALENDAR
VERSION:2.0
PRODID:-//LBNL Physics Division Research Progress Meetings - ECPv6.8.3//NONSGML v1.0//EN
CALSCALE:GREGORIAN
METHOD:PUBLISH
X-ORIGINAL-URL:https://rpm.physics.lbl.gov
X-WR-CALDESC:Events for LBNL Physics Division Research Progress Meetings
REFRESH-INTERVAL;VALUE=DURATION:PT1H
X-Robots-Tag:noindex
X-PUBLISHED-TTL:PT1H
BEGIN:VTIMEZONE
TZID:UTC
BEGIN:STANDARD
TZOFFSETFROM:+0000
TZOFFSETTO:+0000
TZNAME:UTC
DTSTART:20260101T000000
END:STANDARD
END:VTIMEZONE
BEGIN:VEVENT
DTSTART;TZID=UTC:20260428T150000
DTEND;TZID=UTC:20260428T170000
DTSTAMP:20260425T102600
CREATED:20260417T163942Z
LAST-MODIFIED:20260417T185436Z
UID:3115-1777388400-1777395600@rpm.physics.lbl.gov
SUMMARY:Special RPM: Industry Career Panel
DESCRIPTION:Special Research Progress Meeting   \nDate: April 28\, 2026 \nTime: 3:00- 5:00 pm [Note special start time] \nLocation: Building 50 Auditorium [In-Person and HYBRID] [Note special location] \n\nPanelists:\nLuigi Capodieci [Synopsis]\nKatie Copic [Fieldwork]\nTobias Ostermayr [Nvidia]\nNadav Outmezguine [Microsoft AI]\nKhilesh Mistry [Block Inc.] \nTitle: Industry Career Panel \nSummary: The Industry Career Panel will consist of panelists that have backgrounds similar to postdocs and graduate students at LBNL and/ or have extensively worked in departments that often employ people with these backgrounds. This event is especially geared towards postdocs and graduate students preparing to apply for jobs in industry. Attendees are encouraged to bring questions about any aspect of the industry job application process. \n\nhttps://lbnl.zoom.us/j/95679892182?pwd=RU5xU2dDRFNabnR1U3pQMklkYWFIdz09 \nMeeting ID: 956 7989 2182 \nPasscode: 169037
URL:https://rpm.physics.lbl.gov/event/special-rpm-industry-career-panel/
END:VEVENT
BEGIN:VEVENT
DTSTART;TZID=UTC:20260430T160000
DTEND;TZID=UTC:20260430T170000
DTSTAMP:20260425T102600
CREATED:20260424T215821Z
LAST-MODIFIED:20260424T215821Z
UID:3124-1777564800-1777568400@rpm.physics.lbl.gov
SUMMARY:Speaker: Rupert Croft (CMU) - Title: Cosmological simulations\, AI and the high redshift Universe
DESCRIPTION:Research Progress Meeting \nDate: April 30\, 2026 \nTime: 4:00- 5:00 pm \nLocation: Sessler Conference Room- 50A-5132 [In-Person and HYBRID]  \nSpeaker: Rupert Croft (CMU) \nTitle: Cosmological simulations\, AI and the high redshift Universe \nAbstract: AI assistance can turn complex astrophysical supercomputer simulations into easily accessible tools. I will introduce applications to cosmology\, including hybrid AI-physics codes\, and a agentic system that can set up and run a billion particle simulation in seconds. As a use case for this type of modelling\, I will explore the Lyman-alpha forest of intergalactic absorption in quasars and how it can both be gravitationally lensed\, and also used to make large-scale maps of the intergalactic radiation intensity. I will also present cold dark matter simulation predictions for the mysterious “little red dots” seen by the Webb telescope at high redshift. \nhttps://lbnl.zoom.us/j/98854322464?pwd=K2tKUm1VZjRlV1J5RHE3cXdHQzRxdz09 \nMeeting ID: 988 5432 2464\n\nPasscode: 142239
URL:https://rpm.physics.lbl.gov/event/speaker-rupert-croft-cmu-title-cosmological-simulations-ai-and-the-high-redshift-universe/
END:VEVENT
END:VCALENDAR