BEGIN:VCALENDAR
VERSION:2.0
PRODID:-//LBNL Physics Division Research Progress Meetings - ECPv6.8.3//NONSGML v1.0//EN
CALSCALE:GREGORIAN
METHOD:PUBLISH
X-WR-CALNAME:LBNL Physics Division Research Progress Meetings
X-ORIGINAL-URL:https://rpm.physics.lbl.gov
X-WR-CALDESC:Events for LBNL Physics Division Research Progress Meetings
REFRESH-INTERVAL;VALUE=DURATION:PT1H
X-Robots-Tag:noindex
X-PUBLISHED-TTL:PT1H
BEGIN:VTIMEZONE
TZID:America/Los_Angeles
BEGIN:DAYLIGHT
TZOFFSETFROM:-0800
TZOFFSETTO:-0700
TZNAME:PDT
DTSTART:20170312T100000
END:DAYLIGHT
BEGIN:STANDARD
TZOFFSETFROM:-0700
TZOFFSETTO:-0800
TZNAME:PST
DTSTART:20171105T090000
END:STANDARD
END:VTIMEZONE
BEGIN:VEVENT
DTSTART;TZID=America/Los_Angeles:20170412T080000
DTEND;TZID=America/Los_Angeles:20170413T170000
DTSTAMP:20260422T113927
CREATED:20170316T151749Z
LAST-MODIFIED:20170316T151749Z
UID:517-1491984000-1492102800@rpm.physics.lbl.gov
SUMMARY:Director's Physics Division Review
DESCRIPTION:
URL:https://rpm.physics.lbl.gov/event/day-2-directors-physics-division-review/
END:VEVENT
BEGIN:VEVENT
DTSTART;TZID=America/Los_Angeles:20170427T160000
DTEND;TZID=America/Los_Angeles:20170427T170000
DTSTAMP:20260422T113927
CREATED:20170315T234736Z
LAST-MODIFIED:20170315T234736Z
UID:512-1493308800-1493312400@rpm.physics.lbl.gov
SUMMARY:Heather Gray (LBNL) Title: The Art of the Impossible: Probing challenging Higgs channels at the LHC
DESCRIPTION:Abstract: \n\nIn the technical design report of the LHC experiments\, measurements of the Higgs coupling to top and bottom quarks and the width of the Higgs were either predicted to be extremely challenging\, if not impossible at the LHC. Yet\, ATLAS and CMS have both produced interesting results for all these channels. I will highlight selected aspects of these measurements to discuss what allowed ATLAS and CMS to probe the “impossible“.
URL:https://rpm.physics.lbl.gov/event/heather-gray/
END:VEVENT
END:VCALENDAR