BEGIN:VCALENDAR
VERSION:2.0
PRODID:-//LBNL Physics Division Research Progress Meetings - ECPv6.8.3//NONSGML v1.0//EN
CALSCALE:GREGORIAN
METHOD:PUBLISH
X-ORIGINAL-URL:https://rpm.physics.lbl.gov
X-WR-CALDESC:Events for LBNL Physics Division Research Progress Meetings
REFRESH-INTERVAL;VALUE=DURATION:PT1H
X-Robots-Tag:noindex
X-PUBLISHED-TTL:PT1H
BEGIN:VTIMEZONE
TZID:America/Los_Angeles
BEGIN:DAYLIGHT
TZOFFSETFROM:-0800
TZOFFSETTO:-0700
TZNAME:PDT
DTSTART:20170312T100000
END:DAYLIGHT
BEGIN:STANDARD
TZOFFSETFROM:-0700
TZOFFSETTO:-0800
TZNAME:PST
DTSTART:20171105T090000
END:STANDARD
END:VTIMEZONE
BEGIN:VEVENT
DTSTART;TZID=America/Los_Angeles:20170504T160000
DTEND;TZID=America/Los_Angeles:20170504T170000
DTSTAMP:20260422T062736
CREATED:20170424T155005Z
LAST-MODIFIED:20170424T155005Z
UID:536-1493913600-1493917200@rpm.physics.lbl.gov
SUMMARY:Manoj Kaplighat (UC\, Irvine) "The self-interacting dark matter paradigm: motivations and tests"
DESCRIPTION:Abstract:\n\nI will describe how a simple model where dark matter has large elastic self-interactions (cross section over mass of order barns per GeV) can fully explain the observed diversity of all galactic rotation curves. I will summarize the constraints imposed on model building by observations of clusters of galaxies and end with an outline of tests of this paradigm.
URL:https://rpm.physics.lbl.gov/event/manoj-kaplighat-uc-irvine-tba/
LOCATION:HYBRID 50A-5132 (Sessler Conference Room)\, https://lbnl.zoom.us/j/91782268585\, 50A-5132
END:VEVENT
BEGIN:VEVENT
DTSTART;TZID=America/Los_Angeles:20170511T160000
DTEND;TZID=America/Los_Angeles:20170511T170000
DTSTAMP:20260422T062736
CREATED:20170118T111120Z
LAST-MODIFIED:20170118T111120Z
UID:441-1494518400-1494522000@rpm.physics.lbl.gov
SUMMARY:Prof. Rouven Essig (TBA) " Direct Detection of sub-GeV Dark Matter"
DESCRIPTION:Abstract:\nDark matter makes up 85% of the matter in our Universe\, but we have yet to learn its identity.  A broad array of search strategies are needed to probe for non-gravitational interactions between dark matter and ordinary matter.  While most searches focus on Weakly Interacting Massive Particles (WIMPs) with masses between 1 GeV and 1 TeV\, it is imperative to also consider other motivated dark matter candidates.  In this talk\, I will discuss dark matter with MeV-to-GeV masses\, which is a theoretically and phenomenologically appealing possibility and presents a new frontier in the search for dark matter.  I will highlight novel dark matter direct-detection strategies that can probe this under-explored mass range.  I will review how XENON10 data already probes dark matter with masses as low as a few MeV\, and present recent constraints using XENON100 data.  I will then discuss improvements expected from near-future experiments\, focusing on xenon\, semiconductor\, and scintillator targets.  This includes\, for example\, SENSEI\, which is a new ultra-low-threshold silicon CCD detector that is poised to probe vast new regions of parameter space in the next few years.  I will also present a few simple benchmark models of MeV-to-GeV dark matter\, and contrast direct-detection probes with searches at colliders and fixed-target experiments.
URL:https://rpm.physics.lbl.gov/event/prof-rouven-essig-tba-tba/
LOCATION:Zoom Talk\, 50A-5132\, Berkeley\, ca\, 94720
END:VEVENT
BEGIN:VEVENT
DTSTART;TZID=America/Los_Angeles:20170523T080000
DTEND;TZID=America/Los_Angeles:20170525T170000
DTSTAMP:20260422T062736
CREATED:20170405T145537Z
LAST-MODIFIED:20170405T145537Z
UID:530-1495526400-1495731600@rpm.physics.lbl.gov
SUMMARY:Physical Sciences Institution Review
DESCRIPTION:
URL:https://rpm.physics.lbl.gov/event/physical-sciences-institution-review/
END:VEVENT
END:VCALENDAR