BEGIN:VCALENDAR
VERSION:2.0
PRODID:-//LBNL Physics Division Research Progress Meetings - ECPv6.8.3//NONSGML v1.0//EN
CALSCALE:GREGORIAN
METHOD:PUBLISH
X-WR-CALNAME:LBNL Physics Division Research Progress Meetings
X-ORIGINAL-URL:https://rpm.physics.lbl.gov
X-WR-CALDESC:Events for LBNL Physics Division Research Progress Meetings
REFRESH-INTERVAL;VALUE=DURATION:PT1H
X-Robots-Tag:noindex
X-PUBLISHED-TTL:PT1H
BEGIN:VTIMEZONE
TZID:America/Los_Angeles
BEGIN:DAYLIGHT
TZOFFSETFROM:-0800
TZOFFSETTO:-0700
TZNAME:PDT
DTSTART:20170312T100000
END:DAYLIGHT
BEGIN:STANDARD
TZOFFSETFROM:-0700
TZOFFSETTO:-0800
TZNAME:PST
DTSTART:20171105T090000
END:STANDARD
END:VTIMEZONE
BEGIN:VEVENT
DTSTART;TZID=America/Los_Angeles:20170601T080000
DTEND;TZID=America/Los_Angeles:20170601T170000
DTSTAMP:20260422T004653
CREATED:20170530T074927Z
LAST-MODIFIED:20170530T074927Z
UID:547-1496304000-1496336400@rpm.physics.lbl.gov
SUMMARY:Florian Beutler (Portsmouth) "On the reliability of Baryon Acoustic Oscillation (BAO) measurements"
DESCRIPTION:Abstract:\n\nIn this talk I will discuss the reliability of the Baryon Acoustic Oscillation (BAO) signal in the distribution of galaxies. The solid theoretical understanding of this observable means that it represents one of only a few cosmological observables that are not yet dominated by systematic errors. This is one reason why BAO are one of the main science drivers for future galaxy surveys like DESI and Euclid.\n\nI will discuss my recent work on the relative velocity effect as one potential systematic for BAO. The relative velocity effect originates from the same physical effects which imprinted the BAO signal and therefore acts on the same scale. I will introduce this effect in detail\, discuss how we can include it in our modeling and present current constraints from the Baryon Oscillation Spectroscopic Survey (BOSS).
URL:https://rpm.physics.lbl.gov/event/florian-beutler-portsmouth-tba/
LOCATION:HYBRID 50A-5132 (Sessler Conference Room)\, https://lbnl.zoom.us/j/91782268585\, 50A-5132
END:VEVENT
BEGIN:VEVENT
DTSTART;TZID=America/Los_Angeles:20170622T160000
DTEND;TZID=America/Los_Angeles:20170622T170000
DTSTAMP:20260422T004653
CREATED:20170426T090514Z
LAST-MODIFIED:20170426T090514Z
UID:542-1498147200-1498150800@rpm.physics.lbl.gov
SUMMARY:Marcel Vos (CERN) "Prospects for Top Physics at the LHC and Beyond"
DESCRIPTION:ABSTRACT:\nExperiments at the Large Hadron Collider are characterizing the top quark and its interactions to unexpected precision. The combination of direct searches for new particles and indirect constraints from precision measurements provides powerful limits on extensions of the Standard Model. I start the seminar with a brief overview of top physics today and of the prospects for precision top physics of future LHC runs. This sets a high bar for future colliders that are to continue the programme initiated by Tevatron and LHC. In the second half of the seminar I discuss the potential of the future facilities envisaged in Asia and Europe. Powerful electron-positron machines have exquisite potential for key measurements such as the top quark mass and electro-weak couplings. Hadron colliders with a center-of-mass energy that significantly exceeds that of the LHC can probe the QCD interactions of the top quark an order of magnitude deeper and can provide a precise measurement of the top Yukawa coupling.
URL:https://rpm.physics.lbl.gov/event/marcel-vos-cern-tba/
LOCATION:HYBRID 50A-5132 (Sessler Conference Room)\, https://lbnl.zoom.us/j/91782268585\, 50A-5132
END:VEVENT
END:VCALENDAR