BEGIN:VCALENDAR
VERSION:2.0
PRODID:-//LBNL Physics Division Research Progress Meetings - ECPv6.8.3//NONSGML v1.0//EN
CALSCALE:GREGORIAN
METHOD:PUBLISH
X-ORIGINAL-URL:https://rpm.physics.lbl.gov
X-WR-CALDESC:Events for LBNL Physics Division Research Progress Meetings
REFRESH-INTERVAL;VALUE=DURATION:PT1H
X-Robots-Tag:noindex
X-PUBLISHED-TTL:PT1H
BEGIN:VTIMEZONE
TZID:UTC
BEGIN:STANDARD
TZOFFSETFROM:+0000
TZOFFSETTO:+0000
TZNAME:UTC
DTSTART:20210101T000000
END:STANDARD
END:VTIMEZONE
BEGIN:VEVENT
DTSTART;TZID=UTC:20210408T120000
DTEND;TZID=UTC:20210408T130000
DTSTAMP:20260422T160558
CREATED:20210305T035711Z
LAST-MODIFIED:20210513T172545Z
UID:1615-1617883200-1617886800@rpm.physics.lbl.gov
SUMMARY:Louise Skinnari (Northeastern)   Track-triggering at CMS for the High-Luminosity LHC  
DESCRIPTION:​Abstract:  \n​The high luminosity upgrade of the Large Hadron Collider (LHC)\, scheduled for 2025-2027\, will significantly increase the instantaneous luminosity of the LHC collisions. The resulting large proton-proton collision datasets will allow precise measurements of Higgs​ boson​ properties\, searches for ​very ​rare processes\, and much more. To cope with the challenging ​experimental ​environment ​resulting ​from the high luminosity\, significant upgrades will be required for the LHC ​detectors. A key upgrade of the CMS ​detector is to incorporate the identification of charged particle trajectories in the hardware-based trigger system\, with potential to not only solidify the ​CMS ​trigger strategy but to enable ​searches for ​​completely new physics ​signatures. This seminar will discuss the motivation of the CMS track trigger\, give an overview of the system\, and discuss its expected performance based on simulation​ and hardware demonstration​​. \nSlides \nhttp://physics.lbl.gov/rpm/index.php/events/ \nIf you are looking to confirm if there is an event\, due to room reservation\, please go to RPM website for a list of all scheduled talks.\n──────────\nTroy Cortez is inviting you to a scheduled Zoom meeting. \nJoin Zoom Meeting\nhttps://lbnl.zoom.us/j/91782268585 \nMeeting ID: 917 8226 8585\nOne tap mobile\n+16699006833\,\,91782268585# US (San Jose)\n+13462487799\,\,91782268585# US (Houston) \nDial by your location\n+1 669 900 6833 US (San Jose)\n+1 346 248 7799 US (Houston)\n+1 253 215 8782 US (Tacoma)\n+1 646 558 8656 US (New York)\n+1 301 715 8592 US (Germantown)\n+1 312 626 6799 US (Chicago)\nMeeting ID: 917 8226 8585\nFind your local number: https://lbnl.zoom.us/u/abeLb1T4q1 \nJoin by SIP\n91782268585@zoomcrc.com \nJoin by H.323\n162.255.37.11 (US West)\n162.255.36.11 (US East)\n115.114.131.7 (India Mumbai)\n115.114.115.7 (India Hyderabad)\n213.19.144.110 (EMEA)\n103.122.166.55 (Australia)\n64.211.144.160 (Brazil)\n69.174.57.160 (Canada)\n207.226.132.110 (Japan)\nMeeting ID: 917 8226 8585 \n──────────
URL:https://rpm.physics.lbl.gov/event/louise-skinnari-northeastern-tba/
LOCATION:Zoom Talk\, 50A-5132\, Berkeley\, ca\, 94720
END:VEVENT
BEGIN:VEVENT
DTSTART;TZID=UTC:20210415T120000
DTEND;TZID=UTC:20210415T130000
DTSTAMP:20260422T160558
CREATED:20210305T035809Z
LAST-MODIFIED:20210409T212406Z
UID:1617-1618488000-1618491600@rpm.physics.lbl.gov
SUMMARY:Jamie Boyd (CERN)    The FASER Experiment at the CERN LHC: Looking Forward to New Physics
DESCRIPTION:Abstract:\nThe Forward Search Experiment (FASER) is the newest experiment at the LHC\, approved in 2019 and recently installed into the CERN LHC complex. It is a small and inexpensive experiment placed 500 meters downstream of the ATLAS interaction point. FASER is designed to capture decays of exotic particles\, produced in the very forward region\, out of the ATLAS detector acceptance. In addition\, FASERnu\, a FASER sub-detector\, is designed to detect collider neutrinos for the first time and study their properties. This seminar will present the physics prospects\, the detector design\, and the construction and installation progress of FASER.\n\n\nhttp://physics.lbl.gov/rpm/index.php/events/ \nIf you are looking to confirm if there is an event\, due to room reservation\, please go to RPM website for a list of all scheduled talks.\n──────────\nTroy Cortez is inviting you to a scheduled Zoom meeting. \nJoin Zoom Meeting\nhttps://lbnl.zoom.us/j/91782268585 \nMeeting ID: 917 8226 8585\nOne tap mobile\n+16699006833\,\,91782268585# US (San Jose)\n+13462487799\,\,91782268585# US (Houston) \nDial by your location\n+1 669 900 6833 US (San Jose)\n+1 346 248 7799 US (Houston)\n+1 253 215 8782 US (Tacoma)\n+1 646 558 8656 US (New York)\n+1 301 715 8592 US (Germantown)\n+1 312 626 6799 US (Chicago)\nMeeting ID: 917 8226 8585\nFind your local number: https://lbnl.zoom.us/u/abeLb1T4q1 \nJoin by SIP\n91782268585@zoomcrc.com \nJoin by H.323\n162.255.37.11 (US West)\n162.255.36.11 (US East)\n115.114.131.7 (India Mumbai)\n115.114.115.7 (India Hyderabad)\n213.19.144.110 (EMEA)\n103.122.166.55 (Australia)\n64.211.144.160 (Brazil)\n69.174.57.160 (Canada)\n207.226.132.110 (Japan)\nMeeting ID: 917 8226 8585 \n──────────
URL:https://rpm.physics.lbl.gov/event/jamie-boyd-cern/
LOCATION:Zoom Talk\, 50A-5132\, Berkeley\, ca\, 94720
END:VEVENT
BEGIN:VEVENT
DTSTART;TZID=UTC:20210420T120000
DTEND;TZID=UTC:20210420T130000
DTSTAMP:20260422T160558
CREATED:20210408T184057Z
LAST-MODIFIED:20210419T142631Z
UID:1641-1618920000-1618923600@rpm.physics.lbl.gov
SUMMARY:Alberto Lusiani (INFN)    "Muon magnetic anomaly measurement to 0.46 ppm at FNAL"
DESCRIPTION:ABSTRACT: \n \nThe Dirac equation predicted that the g-factor of spin 1/2 particles be 2\, but in 1948 Julian Schwinger calculated that quantum electrodynamics (QED) fluctuations increase the electron and muon g-factor such that the anomaly a_(μ) = (g_(μ) − 2)/2 = α/2π at first order. Since then\, many theorists have estimated an increasingly larger amount of Standard Model contributions to a_(μ)\, and in 2020 an international collaboration of theoretical and experimental physicists (Muon g-2 Theory Initiative) has published a Standard-Model-based prediction of a_(μ) with a 0.37 ppm precision\, using the available information and calculations. The theory prediction uncertainty is dominated by the hadronic contributions\, which have been primarily estimated using measurements of hadronic processes with dispersive techniques. \nThe muon magnetic anomaly a_(μ) = (g_(μ) − 2)/2 has been measured since 1959 at CERN\, and the current 0.54 ppm precision world average has been published in 2006\, using data collected at BNL in the years 1997-2001. \nWhile the electron magnetic anomaly is measured and predicted with about three orders of magnitude better precision\, the muon magnetic moment test of the Standard Model is more sensitive to hadronic effects and to most hypothetical New Physics contributions because the muon mass is about 200 times larger than the electron one. The sensitivity of the muon anomaly measurement extends to many New Physics effects that are searched in high energy experiments. \nAfter a 3-years long analysis of data collected in 2018 at FNAL\, the Muon g-2 collaboration has completed a measurement of the muon magnetic anomaly with a slightly improved precision of 0.46 ppm. The updated world average has a precision of 0.35 ppm and differs from the theory prediction by 4.2 standard deviations. We describe how the measurement has been performed by measuring the muon precession frequency is a storage ring and the magnetic field experienced by the muons and how the new world average has been computed. The precession frequency measurement dominates the uncertainty and has been completed by 6 independent groups with 4 different methods\, obtaining consistent results. The data analysis has been performed in a blind way with a\nspecial care for the internal consistency and the estimation of systematic biases and uncertainties. \nThe Muon g-2 collaboration aims at reducing the statistical uncertainty by a factor 2 in about 18 months from now\, using data already collected\, and eventually aims at collecting a total of about 20 times the statistics of the BNL data\, to reach an ultimate precision of 0.14 ppm (0.10 statistical and 0.10 systematic).\n \nhttp://physics.lbl.gov/rpm/index.php/events/\n\nIf you are looking to confirm if there is an event\, due to room reservation\, please go to RPM website for a list of all scheduled talks.\n──────────\nTroy Cortez is inviting you to a scheduled Zoom meeting.\n\nJoin Zoom Meeting\nhttps://lbnl.zoom.us/j/95906405235\n\nMeeting ID: 959 0640 5235\nOne tap mobile\n+16699006833\,\,95906405235# US (San Jose)\n+13462487799\,\,95906405235# US (Houston)\n\nDial by your location\n +1 669 900 6833 US (San Jose)\n +1 346 248 7799 US (Houston)\n +1 253 215 8782 US (Tacoma)\n +1 301 715 8592 US (Germantown)\n +1 312 626 6799 US (Chicago)\n +1 646 558 8656 US (New York)\nMeeting ID: 959 0640 5235\nFind your local number: https://lbnl.zoom.us/u/a9dnGtb5T\n\nJoin by SIP\n95906405235@zoomcrc.com\n\nJoin by H.323\n162.255.37.11 (US West)\n162.255.36.11 (US East)\n115.114.131.7 (India Mumbai)\n115.114.115.7 (India Hyderabad)\n213.19.144.110 (EMEA)\n103.122.166.55 (Australia)\n64.211.144.160 (Brazil)\n69.174.57.160 (Canada)\n207.226.132.110 (Japan)\nMeeting ID: 959 0640 5235\n\n──────────\n\n\n\nhttp://physics.lbl.gov/rpm/index.php/events/ \nIf you are looking to confirm if there is an event\, due to room reservation\, please go to RPM website for a list of all scheduled talks.\n──────────\nTroy Cortez is inviting you to a scheduled Zoom meeting. \nJoin Zoom Meeting\nhttps://lbnl.zoom.us/j/95906405235 \nMeeting ID: 959 0640 5235\nOne tap mobile\n+16699006833\,\,95906405235# US (San Jose)\n+13462487799\,\,95906405235# US (Houston) \nDial by your location\n+1 669 900 6833 US (San Jose)\n+1 346 248 7799 US (Houston)\n+1 253 215 8782 US (Tacoma)\n+1 301 715 8592 US (Germantown)\n+1 312 626 6799 US (Chicago)\n+1 646 558 8656 US (New York)\nMeeting ID: 959 0640 5235\nFind your local number: https://lbnl.zoom.us/u/a9dnGtb5T \nJoin by SIP\n95906405235@zoomcrc.com \nJoin by H.323\n162.255.37.11 (US West)\n162.255.36.11 (US East)\n115.114.131.7 (India Mumbai)\n115.114.115.7 (India Hyderabad)\n213.19.144.110 (EMEA)\n103.122.166.55 (Australia)\n64.211.144.160 (Brazil)\n69.174.57.160 (Canada)\n207.226.132.110 (Japan)\nMeeting ID: 959 0640 5235 \n──────────
URL:https://rpm.physics.lbl.gov/event/alberto-lusian-infn-tba/
LOCATION:Zoom Talk\, 50A-5132\, Berkeley\, ca\, 94720
END:VEVENT
BEGIN:VEVENT
DTSTART;TZID=UTC:20210422T160000
DTEND;TZID=UTC:20210422T170000
DTSTAMP:20260422T160558
CREATED:20210305T035904Z
LAST-MODIFIED:20210423T164604Z
UID:1619-1619107200-1619110800@rpm.physics.lbl.gov
SUMMARY:Michael Peskin (SLAC) " A Gamma-Gamma Collider for Multi-10-TeV Physics"
DESCRIPTION:ABSTACT: \nIt is time to start thinking about the next-next generation of colliders\, that is\, colliders that access the multi-10-TeV region of parton center of mass energies. The discussion has already begun with consideration of FCC-hh and muon colliders\, but those technologies are not here yet\, and there is room for additional proposals. One that is interesting to me is plasma wakefield acceleration of electrons and conversion to a gamma-gamma collider. In this talk\, I will discuss possible schemes for this\, and technical and physics questions for the proposal that need to be addressed. \n\n\n\nhttp://physics.lbl.gov/rpm/index.php/events/ \nIf you are looking to confirm if there is an event\, due to room reservation\, please go to RPM website for a list of all scheduled talks.\n──────────\nTroy Cortez is inviting you to a scheduled Zoom meeting. \nJoin Zoom Meeting\nhttps://lbnl.zoom.us/j/91782268585 \nMeeting ID: 917 8226 8585\nOne tap mobile\n+16699006833\,\,91782268585# US (San Jose)\n+13462487799\,\,91782268585# US (Houston) \nDial by your location\n+1 669 900 6833 US (San Jose)\n+1 346 248 7799 US (Houston)\n+1 253 215 8782 US (Tacoma)\n+1 646 558 8656 US (New York)\n+1 301 715 8592 US (Germantown)\n+1 312 626 6799 US (Chicago)\nMeeting ID: 917 8226 8585\nFind your local number: https://lbnl.zoom.us/u/abeLb1T4q1 \nJoin by SIP\n91782268585@zoomcrc.com \nJoin by H.323\n162.255.37.11 (US West)\n162.255.36.11 (US East)\n115.114.131.7 (India Mumbai)\n115.114.115.7 (India Hyderabad)\n213.19.144.110 (EMEA)\n103.122.166.55 (Australia)\n64.211.144.160 (Brazil)\n69.174.57.160 (Canada)\n207.226.132.110 (Japan)\nMeeting ID: 917 8226 8585 \n──────────
URL:https://rpm.physics.lbl.gov/event/michael-peskin-slac-tba/
LOCATION:Zoom Talk\, 50A-5132\, Berkeley\, ca\, 94720
END:VEVENT
BEGIN:VEVENT
DTSTART;TZID=UTC:20210427T103000
DTEND;TZID=UTC:20210427T124500
DTSTAMP:20260422T160558
CREATED:20210422T224149Z
LAST-MODIFIED:20210422T224205Z
UID:1656-1619519400-1619527500@rpm.physics.lbl.gov
SUMMARY:SPECIAL RPM | Joint Nuclear Science and Physics Division Seminar on muon g-2
DESCRIPTION:Joint Nuclear Science and Physics Division Seminar on muon g-2\n\n\n\n\n\n\n\n\nTuesday\, April 27\, 10:30am – 12:45pm \nZoom Meeting Link \nMeeting ID: 927 0993 8569 \nPasscode: 843893 \n\n\n\n\n\n\n\n\nWe are having a special seminar followed by a panel discussion on the recent g-2 result for the muon\, with an emphasis on the theoretical prediction for this quantity. \n10:30am : Welcome \n10:35am: Kálmán Szabó \n11:05am: Martin Hoferichter \n11:40am: Panel discussion + audience question/answer \nPanelists: Gilberto Colangelo (chair)\, Aida El-Khadra\, Christoph Lehner\, Bill Marciano and Thomas Teubner
URL:https://rpm.physics.lbl.gov/event/joint-nuclear-science-and-physics-division-seminar-on-muon-g-2/
LOCATION:Zoom Talk\, 50A-5132\, Berkeley\, ca\, 94720
END:VEVENT
BEGIN:VEVENT
DTSTART;TZID=UTC:20210429T160000
DTEND;TZID=UTC:20210429T170000
DTSTAMP:20260422T160558
CREATED:20210305T035944Z
LAST-MODIFIED:20210513T172420Z
UID:1621-1619712000-1619715600@rpm.physics.lbl.gov
SUMMARY:Martin Savage (University of Washington) "Quantum Simulations for HEP and NP"
DESCRIPTION:Abstract:\nTheoretical predictions of the properties and dynamics of quantum many-body systems of importance to  High-energy and nuclear physics research are anticipated to require\, in many instances\, beyond classical computational resources.  Such systems may be amenable to quantum simulations in the future\, and the very first steps are now being taken towards these objectives. I will discuss the potential and status of this newly emerging area\, with a focus on field theories. \nSlides \nhttp://physics.lbl.gov/rpm/index.php/events/\nIf you are looking to confirm if there is an event\, due to room reservation\, please go to RPM website for a list of all scheduled talks.\n──────────\nTroy Cortez is inviting you to a scheduled Zoom meeting. \nJoin Zoom Meeting\nhttps://lbnl.zoom.us/j/91782268585 \nMeeting ID: 917 8226 8585\nOne tap mobile\n+16699006833\,\,91782268585# US (San Jose)\n+13462487799\,\,91782268585# US (Houston) \nDial by your location\n+1 669 900 6833 US (San Jose)\n+1 346 248 7799 US (Houston)\n+1 253 215 8782 US (Tacoma)\n+1 646 558 8656 US (New York)\n+1 301 715 8592 US (Germantown)\n+1 312 626 6799 US (Chicago)\nMeeting ID: 917 8226 8585\nFind your local number: https://lbnl.zoom.us/u/abeLb1T4q1 \nJoin by SIP\n91782268585@zoomcrc.com \nJoin by H.323\n162.255.37.11 (US West)\n162.255.36.11 (US East)\n115.114.131.7 (India Mumbai)\n115.114.115.7 (India Hyderabad)\n213.19.144.110 (EMEA)\n103.122.166.55 (Australia)\n64.211.144.160 (Brazil)\n69.174.57.160 (Canada)\n207.226.132.110 (Japan)\nMeeting ID: 917 8226 8585 \n──────────
URL:https://rpm.physics.lbl.gov/event/martin-savage-uw-tba/
LOCATION:Zoom Talk\, 50A-5132\, Berkeley\, ca\, 94720
END:VEVENT
END:VCALENDAR