BEGIN:VCALENDAR
VERSION:2.0
PRODID:-//LBNL Physics Division Research Progress Meetings - ECPv6.8.3//NONSGML v1.0//EN
CALSCALE:GREGORIAN
METHOD:PUBLISH
X-ORIGINAL-URL:https://rpm.physics.lbl.gov
X-WR-CALDESC:Events for LBNL Physics Division Research Progress Meetings
REFRESH-INTERVAL;VALUE=DURATION:PT1H
X-Robots-Tag:noindex
X-PUBLISHED-TTL:PT1H
BEGIN:VTIMEZONE
TZID:UTC
BEGIN:STANDARD
TZOFFSETFROM:+0000
TZOFFSETTO:+0000
TZNAME:UTC
DTSTART:20210101T000000
END:STANDARD
END:VTIMEZONE
BEGIN:VEVENT
DTSTART;TZID=UTC:20210506T160000
DTEND;TZID=UTC:20210506T170000
DTSTAMP:20260422T215923
CREATED:20210305T040120Z
LAST-MODIFIED:20210504T052739Z
UID:1624-1620316800-1620320400@rpm.physics.lbl.gov
SUMMARY:Xiaosheng Huang (USF) "Strong Gravitational Lenses Discovered in the DESI Legacy Imaging Surveys"
DESCRIPTION:ABSTRACT:We have discovered over 1500 new strong lensing candidates in the Dark Energy Spectroscopic Instrument (DESI) Legacy Imaging Surveys using residual neural networks.  The photometric redshifts of the candidate lenses are broadly distributed between 0.1 and 1.  Follow-up observations are underway.  Our Hubble Space Telescope SNAP program has confirmed all 47 of the candidates observed so far and our DESI Secondary Targets program for Year 1 will likely observe ∼400 candidate systems.  This sample will enable unprecedented tests of the cold dark matter model\, e.g.\, by measuring the redshift evolution of the dark matter concentration and density profile slope.  Furthermore\, based on DESI spectra\, an optimal set of systems can be selected for a targeted search for multiply-lensed supernovae\, which can be used to determine the Hubble constant.  Both objectives are highly complementary to the science goals of the DESI experiment. \n\n\n\nhttp://physics.lbl.gov/rpm/index.php/events/ \nIf you are looking to confirm if there is an event\, due to room reservation\, please go to RPM website for a list of all scheduled talks.\n──────────\nTroy Cortez is inviting you to a scheduled Zoom meeting. \nJoin Zoom Meeting\nhttps://lbnl.zoom.us/j/91782268585 \nMeeting ID: 917 8226 8585\nOne tap mobile\n+16699006833\,\,91782268585# US (San Jose)\n+13462487799\,\,91782268585# US (Houston) \nDial by your location\n+1 669 900 6833 US (San Jose)\n+1 346 248 7799 US (Houston)\n+1 253 215 8782 US (Tacoma)\n+1 646 558 8656 US (New York)\n+1 301 715 8592 US (Germantown)\n+1 312 626 6799 US (Chicago)\nMeeting ID: 917 8226 8585\nFind your local number: https://lbnl.zoom.us/u/abeLb1T4q1 \nJoin by SIP\n91782268585@zoomcrc.com \nJoin by H.323\n162.255.37.11 (US West)\n162.255.36.11 (US East)\n115.114.131.7 (India Mumbai)\n115.114.115.7 (India Hyderabad)\n213.19.144.110 (EMEA)\n103.122.166.55 (Australia)\n64.211.144.160 (Brazil)\n69.174.57.160 (Canada)\n207.226.132.110 (Japan)\nMeeting ID: 917 8226 8585 \n──────────
URL:https://rpm.physics.lbl.gov/event/xiaosheng-huang-usf-tba/
LOCATION:Zoom Talk\, 50A-5132\, Berkeley\, ca\, 94720
END:VEVENT
BEGIN:VEVENT
DTSTART;TZID=UTC:20210525T123000
DTEND;TZID=UTC:20210525T133000
DTSTAMP:20260422T215923
CREATED:20210520T172036Z
LAST-MODIFIED:20210520T172046Z
UID:1686-1621945800-1621949400@rpm.physics.lbl.gov
SUMMARY:Valerie Domcke (CERN) "Cosmology with Axion-Like Particles"
DESCRIPTION:ABSTRACT:\n\nAxion-like particles may play a key role in early universe cosmology. They are naturally equipped with the right properties to explain cosmic inflation\, can dynamically explain the smallness of the electroweak scale\, may be involved in the generation of the matter antimatter asymmetry and are promising dark matter candidates. In this talk I discuss a generic but previously overlooked particle particle production mechanism\, resulting in the dual production of gauge fields and fermions induced by axion-like particles. I will discuss how this crucially impacts all of the cosmological scenarios mentioned above and may be probed with upcoming gravitational wave detectors.\n\n\n\nhttp://physics.lbl.gov/rpm/index.php/events/ \nIf you are looking to confirm if there is an event\, due to room reservation\, please go to RPM website for a list of all scheduled talks.\n──────────\nTroy Cortez is inviting you to a scheduled Zoom meeting. \nJoin Zoom Meeting\nhttps://lbnl.zoom.us/j/95906405235 \nMeeting ID: 959 0640 5235\nOne tap mobile\n+16699006833\,\,95906405235# US (San Jose)\n+13462487799\,\,95906405235# US (Houston) \nDial by your location\n+1 669 900 6833 US (San Jose)\n+1 346 248 7799 US (Houston)\n+1 253 215 8782 US (Tacoma)\n+1 301 715 8592 US (Germantown)\n+1 312 626 6799 US (Chicago)\n+1 646 558 8656 US (New York)\nMeeting ID: 959 0640 5235\nFind your local number: https://lbnl.zoom.us/u/a9dnGtb5T \nJoin by SIP\n95906405235@zoomcrc.com \nJoin by H.323\n162.255.37.11 (US West)\n162.255.36.11 (US East)\n115.114.131.7 (India Mumbai)\n115.114.115.7 (India Hyderabad)\n213.19.144.110 (EMEA)\n103.122.166.55 (Australia)\n64.211.144.160 (Brazil)\n69.174.57.160 (Canada)\n207.226.132.110 (Japan)\nMeeting ID: 959 0640 5235 \n──────────
URL:https://rpm.physics.lbl.gov/event/valerie-domcke-cern-cosmology-with-axion-like-particles/
LOCATION:Zoom Talk\, 50A-5132\, Berkeley\, ca\, 94720
END:VEVENT
BEGIN:VEVENT
DTSTART;TZID=UTC:20210527T160000
DTEND;TZID=UTC:20210527T170000
DTSTAMP:20260422T215923
CREATED:20210325T191421Z
LAST-MODIFIED:20210527T162204Z
UID:1636-1622131200-1622134800@rpm.physics.lbl.gov
SUMMARY:Mike Williams (MIT)   Searching for physics beyond the Standard Model at the LHCb experiment
DESCRIPTION:Abstract:  \nThe LHCb experiment at the Large Hadron Collider (LHC) at CERN has been the world’s premier laboratory for studying processes in which the quark types (or flavors) change since 2011. Such processes are highly sensitive to quantum-mechanical contributions from as-yet-unknown particles\, e.g. supersymmetric particles\, even those that are too massive to produce at the LHC. I will discuss the status of these searches\, including some intriguing anomalies. I will also present searches for the proposed dark matter analogs of the photon and the Higgs boson. Planned future upgrades and the resulting physics prospects will also be discussed\, including our plans to process the full 5 terabytes per second of LHCb data in real time in the next LHC run. \nhttp://physics.lbl.gov/rpm/index.php/events/ \nIf you are looking to confirm if there is an event\, due to room reservation\, please go to RPM website for a list of all scheduled talks.\n──────────\nTroy Cortez is inviting you to a scheduled Zoom meeting. \nJoin Zoom Meeting\nhttps://lbnl.zoom.us/j/91782268585 \nMeeting ID: 917 8226 8585\nOne tap mobile\n+16699006833\,\,91782268585# US (San Jose)\n+13462487799\,\,91782268585# US (Houston) \nDial by your location\n+1 669 900 6833 US (San Jose)\n+1 346 248 7799 US (Houston)\n+1 253 215 8782 US (Tacoma)\n+1 646 558 8656 US (New York)\n+1 301 715 8592 US (Germantown)\n+1 312 626 6799 US (Chicago)\nMeeting ID: 917 8226 8585\nFind your local number: https://lbnl.zoom.us/u/abeLb1T4q1 \nJoin by SIP\n91782268585@zoomcrc.com \nJoin by H.323\n162.255.37.11 (US West)\n162.255.36.11 (US East)\n115.114.131.7 (India Mumbai)\n115.114.115.7 (India Hyderabad)\n213.19.144.110 (EMEA)\n103.122.166.55 (Australia)\n64.211.144.160 (Brazil)\n69.174.57.160 (Canada)\n207.226.132.110 (Japan)\nMeeting ID: 917 8226 8585 \n──────────
URL:https://rpm.physics.lbl.gov/event/mike-williams-mit-tba/
LOCATION:Zoom Talk\, 50A-5132\, Berkeley\, ca\, 94720
END:VEVENT
END:VCALENDAR