BEGIN:VCALENDAR
VERSION:2.0
PRODID:-//LBNL Physics Division Research Progress Meetings - ECPv6.8.3//NONSGML v1.0//EN
CALSCALE:GREGORIAN
METHOD:PUBLISH
X-ORIGINAL-URL:https://rpm.physics.lbl.gov
X-WR-CALDESC:Events for LBNL Physics Division Research Progress Meetings
REFRESH-INTERVAL;VALUE=DURATION:PT1H
X-Robots-Tag:noindex
X-PUBLISHED-TTL:PT1H
BEGIN:VTIMEZONE
TZID:UTC
BEGIN:STANDARD
TZOFFSETFROM:+0000
TZOFFSETTO:+0000
TZNAME:UTC
DTSTART:20210101T000000
END:STANDARD
END:VTIMEZONE
BEGIN:VEVENT
DTSTART;TZID=UTC:20211007T120000
DTEND;TZID=UTC:20211007T130000
DTSTAMP:20260424T103700
CREATED:20211007T183246Z
LAST-MODIFIED:20211007T231949Z
UID:1706-1633608000-1633611600@rpm.physics.lbl.gov
SUMMARY:Kendall Mahn (Michigan State University) "Results from T2K  and the current landscape of neutrino oscillation"
DESCRIPTION:Abstract:  \nNeutrinos are a tiny subatomic particle with surprising properties under active study. In particular\, neutrinos oscillate\, that is\, they convert from one type of neutrino to another\, is a surprising phenomenon under active study. The origin of neutrino mass is important for astrophysics\, cosmology and particle physics\, and many open questions surrounding neutrino oscillation exist. The Tokai-to-Kamioka (T2K) neutrino oscillation experiment sends a beam of muon flavor neutrinos or antineutrinos 295km across Japan. This seminar will discuss the state of the field of neutrino oscillation physics\, including recent results from T2K\, and T2K’s exciting future program. \n\n\n\nhttp://physics.lbl.gov/rpm/index.php/events/\n\nIf you are looking to confirm if there is an event\, due to room reservation\, please go to RPM website for a list of all scheduled talks.\n──────────\nTroy Cortez is inviting you to a scheduled Zoom meeting. \nJoin Zoom Meeting\nhttps://lbnl.zoom.us/j/91782268585 \nMeeting ID: 917 8226 8585\nOne tap mobile\n+16699006833\,\,91782268585# US (San Jose)\n+13462487799\,\,91782268585# US (Houston) \nDial by your location\n+1 669 900 6833 US (San Jose)\n+1 346 248 7799 US (Houston)\n+1 253 215 8782 US (Tacoma)\n+1 646 558 8656 US (New York)\n+1 301 715 8592 US (Germantown)\n+1 312 626 6799 US (Chicago)\nMeeting ID: 917 8226 8585\nFind your local number: https://lbnl.zoom.us/u/abeLb1T4q1 \nJoin by SIP\n91782268585@zoomcrc.com \nJoin by H.323\n162.255.37.11 (US West)\n162.255.36.11 (US East)\n115.114.131.7 (India Mumbai)\n115.114.115.7 (India Hyderabad)\n213.19.144.110 (EMEA)\n103.122.166.55 (Australia)\n64.211.144.160 (Brazil)\n69.174.57.160 (Canada)\n207.226.132.110 (Japan)\nMeeting ID: 917 8226 8585 \n────────── \n  \nTalk Video Recording: \nKendall Mahn (Michigan State University) Talk
URL:https://rpm.physics.lbl.gov/event/kendall-mahn-michigan-state-university-results-from-t2k-and-the-current-landscape-of-neutrino-oscillation/
LOCATION:Zoom Talk\, 50A-5132\, Berkeley\, ca\, 94720
END:VEVENT
BEGIN:VEVENT
DTSTART;TZID=UTC:20211014T160000
DTEND;TZID=UTC:20211014T170000
DTSTAMP:20260424T103700
CREATED:20211007T183951Z
LAST-MODIFIED:20211011T174012Z
UID:1708-1634227200-1634230800@rpm.physics.lbl.gov
SUMMARY:Christian Bauer (LBNL) "Quantum computing for High Energy Physics"
DESCRIPTION:ABSTRACT: \nI will review the Quantum Computing efforts in the Physics division\, with the goal of allowing to calculate important properties of the Standard Model non-perturbatively and ultimately to simulate scattering at colliders from first principles. I will present several results\, both on physics simulations and on noise mitigation\, which is crucial to obtain results on near-term devices. \n\n\n\nhttp://physics.lbl.gov/rpm/index.php/events/\n\nIf you are looking to confirm if there is an event\, due to room reservation\, please go to RPM website for a list of all scheduled talks.\n──────────\nTroy Cortez is inviting you to a scheduled Zoom meeting. \nJoin Zoom Meeting\nhttps://lbnl.zoom.us/j/91782268585 \nMeeting ID: 917 8226 8585\nOne tap mobile\n+16699006833\,\,91782268585# US (San Jose)\n+13462487799\,\,91782268585# US (Houston) \nDial by your location\n+1 669 900 6833 US (San Jose)\n+1 346 248 7799 US (Houston)\n+1 253 215 8782 US (Tacoma)\n+1 646 558 8656 US (New York)\n+1 301 715 8592 US (Germantown)\n+1 312 626 6799 US (Chicago)\nMeeting ID: 917 8226 8585\nFind your local number: https://lbnl.zoom.us/u/abeLb1T4q1 \nJoin by SIP\n91782268585@zoomcrc.com \nJoin by H.323\n162.255.37.11 (US West)\n162.255.36.11 (US East)\n115.114.131.7 (India Mumbai)\n115.114.115.7 (India Hyderabad)\n213.19.144.110 (EMEA)\n103.122.166.55 (Australia)\n64.211.144.160 (Brazil)\n69.174.57.160 (Canada)\n207.226.132.110 (Japan)\nMeeting ID: 917 8226 8585 \n──────────
URL:https://rpm.physics.lbl.gov/event/christian-bauer-lbnl-tba-2/
LOCATION:Zoom Talk\, 50A-5132\, Berkeley\, ca\, 94720
END:VEVENT
BEGIN:VEVENT
DTSTART;TZID=UTC:20211021T160000
DTEND;TZID=UTC:20211021T170000
DTSTAMP:20260424T103700
CREATED:20211007T184235Z
LAST-MODIFIED:20211021T230133Z
UID:1710-1634832000-1634835600@rpm.physics.lbl.gov
SUMMARY:Derun Li (LBNL) "Overview of the Muon Collider challenges and R&D Progress under the US Muon Accelerator Program (MAP)"
DESCRIPTION:Abstract:\n\n\nThere is an increasingly growing interest in Muon Collider in High Energy Physics community and Snowmass 2021.  Considerable progresses have been made under the US Muon Accelerator Program (MAP) to target technical challenges associated with Muon Collider.  The US MAP was recommended for termination by P5 in 2014\, and all relavent R&D efforts and international MICE commitment officially ended in 2018. I will give an overview of the US MAP efforts on Muon Collider\, technical challenges and progresses\, in particular Berkeley Lab’s role and major contributions for Muon Collider R&D and international MICE. At the end\, I would like to give an outlook of Muon Collider R&D and lessons learned from the US MAP and international MICE.\n\n\n\n\nhttp://physics.lbl.gov/rpm/index.php/events/\n\nIf you are looking to confirm if there is an event\, due to room reservation\, please go to RPM website for a list of all scheduled talks.\n──────────\nTroy Cortez is inviting you to a scheduled Zoom meeting. \nJoin Zoom Meeting\nhttps://lbnl.zoom.us/j/91782268585 \nMeeting ID: 917 8226 8585\nOne tap mobile\n+16699006833\,\,91782268585# US (San Jose)\n+13462487799\,\,91782268585# US (Houston) \nDial by your location\n+1 669 900 6833 US (San Jose)\n+1 346 248 7799 US (Houston)\n+1 253 215 8782 US (Tacoma)\n+1 646 558 8656 US (New York)\n+1 301 715 8592 US (Germantown)\n+1 312 626 6799 US (Chicago)\nMeeting ID: 917 8226 8585\nFind your local number: https://lbnl.zoom.us/u/abeLb1T4q1 \nJoin by SIP\n91782268585@zoomcrc.com \nJoin by H.323\n162.255.37.11 (US West)\n162.255.36.11 (US East)\n115.114.131.7 (India Mumbai)\n115.114.115.7 (India Hyderabad)\n213.19.144.110 (EMEA)\n103.122.166.55 (Australia)\n64.211.144.160 (Brazil)\n69.174.57.160 (Canada)\n207.226.132.110 (Japan)\nMeeting ID: 917 8226 8585
URL:https://rpm.physics.lbl.gov/event/derun-li-lbnl/
LOCATION:Zoom Talk\, 50A-5132\, Berkeley\, ca\, 94720
END:VEVENT
BEGIN:VEVENT
DTSTART;TZID=UTC:20211028T160000
DTEND;TZID=UTC:20211028T170000
DTSTAMP:20260424T103700
CREATED:20211007T184326Z
LAST-MODIFIED:20211028T160258Z
UID:1712-1635436800-1635440400@rpm.physics.lbl.gov
SUMMARY:Laura Jeanty (Oregon) "Perspectives from Run 2: Status and Outlook for Supersymmetry Searches at the LHC"
DESCRIPTION:ABSTRACT:\nThe second run of the LHC\, from 2015-2018\, produced an unprecedented trove of data in which the ATLAS and CMS collaborations have been searching for evidence of new particles and new phenomena. Supersymmetry remains one of the most promising theories for new physics accessible at the LHC which could address outstanding questions in particle physics\, from why the Higgs Boson has the mass that it does to the particle nature of dark matter. As beam returns now to the LHC for the first time since 2018 and the start of Run 3 is around the corner\, this talk will take a moment to summarize the status of searches for supersymmetry by the ATLAS and CMS experiments. The talk will highlight the Run 2 perspective on supersymmetry\, with a focus on the experimental constraints\, and will discuss some of the well-motivated ways in which it could have evaded detection thus far. The talk will conclude with an outlook for future searches. \n\n\n\n\n\n\n\n\n\n\n\n\n\n\n\n\n\n\nhttp://physics.lbl.gov/rpm/index.php/events/\n\nIf you are looking to confirm if there is an event\, due to room reservation\, please go to RPM website for a list of all scheduled talks.\n──────────\nTroy Cortez is inviting you to a scheduled Zoom meeting. \nJoin Zoom Meeting\nhttps://lbnl.zoom.us/j/91782268585 \nMeeting ID: 917 8226 8585\nOne tap mobile\n+16699006833\,\,91782268585# US (San Jose)\n+13462487799\,\,91782268585# US (Houston) \nDial by your location\n+1 669 900 6833 US (San Jose)\n+1 346 248 7799 US (Houston)\n+1 253 215 8782 US (Tacoma)\n+1 646 558 8656 US (New York)\n+1 301 715 8592 US (Germantown)\n+1 312 626 6799 US (Chicago)\nMeeting ID: 917 8226 8585\nFind your local number: https://lbnl.zoom.us/u/abeLb1T4q1 \nJoin by SIP\n91782268585@zoomcrc.com \nJoin by H.323\n162.255.37.11 (US West)\n162.255.36.11 (US East)\n115.114.131.7 (India Mumbai)\n115.114.115.7 (India Hyderabad)\n213.19.144.110 (EMEA)\n103.122.166.55 (Australia)\n64.211.144.160 (Brazil)\n69.174.57.160 (Canada)\n207.226.132.110 (Japan)\nMeeting ID: 917 8226 8585 \n──────────
URL:https://rpm.physics.lbl.gov/event/laura-jeanty-oregon/
LOCATION:Zoom Talk\, 50A-5132\, Berkeley\, ca\, 94720
END:VEVENT
END:VCALENDAR