BEGIN:VCALENDAR
VERSION:2.0
PRODID:-//LBNL Physics Division Research Progress Meetings - ECPv6.8.3//NONSGML v1.0//EN
CALSCALE:GREGORIAN
METHOD:PUBLISH
X-WR-CALNAME:LBNL Physics Division Research Progress Meetings
X-ORIGINAL-URL:https://rpm.physics.lbl.gov
X-WR-CALDESC:Events for LBNL Physics Division Research Progress Meetings
REFRESH-INTERVAL;VALUE=DURATION:PT1H
X-Robots-Tag:noindex
X-PUBLISHED-TTL:PT1H
BEGIN:VTIMEZONE
TZID:UTC
BEGIN:STANDARD
TZOFFSETFROM:+0000
TZOFFSETTO:+0000
TZNAME:UTC
DTSTART:20220101T000000
END:STANDARD
END:VTIMEZONE
BEGIN:VEVENT
DTSTART;TZID=UTC:20221013T160000
DTEND;TZID=UTC:20221013T170000
DTSTAMP:20260421T184347
CREATED:20221013T205125Z
LAST-MODIFIED:20221013T205125Z
UID:1945-1665676800-1665680400@rpm.physics.lbl.gov
SUMMARY:SPECIAL RPM - Physics Division |  How to Land a Faculty Position: A Panel Discussion with Senior Scientists in the Physics Division
DESCRIPTION:In this panel discussion postdocs and students will have the opportunity to ask senior division scientists about how the faculty hiring process typically works and labs and universities\, and how to put together a winning faculty application. The panelists will be \nNathalie Palanque-Delabrouille (Division director)\nChristian Bauer (Theory)\nMarjorie Shapiro (ATLAS)\nDave Brown (Mu2e)\nPeter Sorensen (LZ) \nTogether they have about a century worth of experience with hiring panels\, in a variety of fields and settings (universities + laboratories). Most of the time will be reserved for interactions with the audience\, so bring along all your questions about finding permanent positions in academia \nhttp://physics.lbl.gov/rpm/index.php/events/\nIf you are looking to confirm if there is an event\, due to room reservation\, please go to RPM website for a list of all scheduled talks.\n──────────\nTroy Cortez is inviting you to a scheduled Zoom meeting. \nJoin Zoom Meeting\nhttps://lbnl.zoom.us/j/91782268585 \nMeeting ID: 917 8226 8585\nOne tap mobile\n+16699006833\,\,91782268585# US (San Jose)\n+13462487799\,\,91782268585# US (Houston) \nDial by your location\n+1 669 900 6833 US (San Jose)\n+1 346 248 7799 US (Houston)\n+1 253 215 8782 US (Tacoma)\n+1 646 558 8656 US (New York)\n+1 301 715 8592 US (Germantown)\n+1 312 626 6799 US (Chicago)\nMeeting ID: 917 8226 8585\nFind your local number: https://lbnl.zoom.us/u/abeLb1T4q1 \nJoin by SIP\n91782268585@zoomcrc.com \nJoin by H.323\n162.255.37.11 (US West)\n162.255.36.11 (US East)\n115.114.131.7 (India Mumbai)\n115.114.115.7 (India Hyderabad)\n213.19.144.110 (EMEA)\n103.122.166.55 (Australia)\n64.211.144.160 (Brazil)\n69.174.57.160 (Canada)\n207.226.132.110 (Japan)\nMeeting ID: 917 8226 8585 \n──────────
URL:https://rpm.physics.lbl.gov/event/special-rpm-physics-division-how-to-land-a-faculty-position-a-panel-discussion-with-senior-scientists-in-the-physics-division/
LOCATION:50-Auditorium
END:VEVENT
BEGIN:VEVENT
DTSTART;TZID=UTC:20221018T160000
DTEND;TZID=UTC:20221018T170000
DTSTAMP:20260421T184347
CREATED:20221013T210701Z
LAST-MODIFIED:20221013T210917Z
UID:1947-1666108800-1666112400@rpm.physics.lbl.gov
SUMMARY:Simone Pagan Griso (LBNL) "Snowmass Reports Highlights - Part 1"
DESCRIPTION:Abstract:\nThe Particle Physics Community Planning Exercise (a.k.a. “Snowmass”) is organized by the Division of Particles and Fields (DPF) of the American Physical Society. Snowmass is a scientific study. It provides an opportunity for the entire particle physics community to come together to identify and document a scientific vision for the future of particle physics in the U.S. and its international partners. Snowmass will define the most important questions for the field of particle physics and identify promising opportunities to address them.\n\nThe Snowmass exercise is now approaching its end\, with most groups’ reports now available from the website (https://snowmass21.org/start).\n\n\n\nIn this seminar series\, we’ll review the most important messages coming out from these reports in a set of brief talks\, with ample time for questions.\n\nThis week we’ll have a brief introduction\, followed by the highlights of the Energy\, Accelerator and Computing frontiers given\, respectively\, by Simone Pagan Griso\, Stephen Gourlay and Benjamin Nachman.\n\n\n\n──────────\nTroy Cortez is inviting you to a scheduled Zoom meeting.Join Zoom Meeting\nhttps://lbnl.zoom.us/j/94367647939?pwd=UEJQRjhlaGc4dFFqT1c1WEtRSnVRZz09Meeting ID: 943 6764 7939\nPasscode: 531399\nOne tap mobile\n+16699006833\,\,94367647939#\,\,\,\,*531399# US (San Jose)\n+12133388477\,\,94367647939#\,\,\,\,*531399# US (Los Angeles) \nDial by your location\n+1 669 900 6833 US (San Jose)\n+1 213 338 8477 US (Los Angeles)\n+1 669 219 2599 US (San Jose)\n+1 971 247 1195 US (Portland)\n+1 206 337 9723 US (Seattle)\n+1 253 215 8782 US (Tacoma)\n+1 346 248 7799 US (Houston)\n+1 602 753 0140 US (Phoenix)\n+1 720 928 9299 US (Denver)\n+1 646 518 9805 US (New York)\n+1 646 558 8656 US (New York)\n+1 651 372 8299 US (Minnesota)\n+1 786 635 1003 US (Miami)\n+1 267 831 0333 US (Philadelphia)\n+1 301 715 8592 US (Washington DC)\n+1 312 626 6799 US (Chicago)\n+1 470 250 9358 US (Atlanta)\n+1 470 381 2552 US (Atlanta)\nMeeting ID: 943 6764 7939\nPasscode: 531399\nFind your local number: https://lbnl.zoom.us/u/adUylfsSvF \nJoin by SIP\n94367647939@zoomcrc.com \nJoin by H.323\n162.255.37.11 (US West)\n162.255.36.11 (US East)\n115.114.131.7 (India Mumbai)\n115.114.115.7 (India Hyderabad)\n213.19.144.110 (Amsterdam Netherlands)\n213.244.140.110 (Germany)\n103.122.166.55 (Australia Sydney)\n103.122.167.55 (Australia Melbourne)\n64.211.144.160 (Brazil)\n69.174.57.160 (Canada Toronto)\n65.39.152.160 (Canada Vancouver)\n207.226.132.110 (Japan Tokyo)\n149.137.24.110 (Japan Osaka)\nMeeting ID: 943 6764 7939\nPasscode: 531399 \n──────────
URL:https://rpm.physics.lbl.gov/event/simone-pagan-griso-lbnl-snowmass-reports-highlights-part-1/
END:VEVENT
BEGIN:VEVENT
DTSTART;TZID=UTC:20221020T160000
DTEND;TZID=UTC:20221020T170000
DTSTAMP:20260421T184347
CREATED:20221013T204824Z
LAST-MODIFIED:20221013T204841Z
UID:1942-1666281600-1666285200@rpm.physics.lbl.gov
SUMMARY: James Unwin (UIC) "The Prospect of Nearby Primordial Black Holes"  
DESCRIPTION:Abstract:\nPrimordial Black Holes are a potential candidate for explaining some\, or even all\, of the experimentally inferred dark matter abundance. In this talk I will motivate the existence of Primordial Black Holes and discuss their potential role as a dark matter candidate. Notably\, for light Primordial Black Holes there could be a large abundance of such objects in the vicinity of the solar system potentially leading to distinct astrophysical signals. Moreover\, I will highlight that one can explain gravitational anomalies observed in small bodies with orbits beyond Neptune\, which have been taken to be indicative of a large ninth planet in the outer Solar System\, can be explained by a planetary mass Primordial Black Hole which has been gravitationally captured by the Sun.\n\n\nhttp://physics.lbl.gov/rpm/index.php/events/ \nIf you are looking to confirm if there is an event\, due to room reservation\, please go to RPM website for a list of all scheduled talks.\n──────────\nTroy Cortez is inviting you to a scheduled Zoom meeting. \nJoin Zoom Meeting\nhttps://lbnl.zoom.us/j/91782268585 \nMeeting ID: 917 8226 8585\nOne tap mobile\n+16699006833\,\,91782268585# US (San Jose)\n+13462487799\,\,91782268585# US (Houston) \nDial by your location\n+1 669 900 6833 US (San Jose)\n+1 346 248 7799 US (Houston)\n+1 253 215 8782 US (Tacoma)\n+1 646 558 8656 US (New York)\n+1 301 715 8592 US (Germantown)\n+1 312 626 6799 US (Chicago)\nMeeting ID: 917 8226 8585\nFind your local number: https://lbnl.zoom.us/u/abeLb1T4q1 \nJoin by SIP\n91782268585@zoomcrc.com \nJoin by H.323\n162.255.37.11 (US West)\n162.255.36.11 (US East)\n115.114.131.7 (India Mumbai)\n115.114.115.7 (India Hyderabad)\n213.19.144.110 (EMEA)\n103.122.166.55 (Australia)\n64.211.144.160 (Brazil)\n69.174.57.160 (Canada)\n207.226.132.110 (Japan)\nMeeting ID: 917 8226 8585 \n──────────
URL:https://rpm.physics.lbl.gov/event/james-unwin-uic-the-prospect-of-nearby-primordial-black-holes/
LOCATION:HYBRID 50A-5132 (Sessler Conference Room)\, https://lbnl.zoom.us/j/91782268585\, 50A-5132
END:VEVENT
BEGIN:VEVENT
DTSTART;TZID=UTC:20221025T160000
DTEND;TZID=UTC:20221025T170000
DTSTAMP:20260421T184347
CREATED:20221025T113015Z
LAST-MODIFIED:20221025T183357Z
UID:1962-1666713600-1666717200@rpm.physics.lbl.gov
SUMMARY:SPEAKERS: Gabriel Orebi-Gann\, Simone Ferraro\, & Kevin Lesko - Snowmass Report Highlights - Part 2
DESCRIPTION:ZOOM Information:\nJoin Zoom Meeting\nhttps://lbnl.zoom.us/j/94367647939?pwd=UEJQRjhlaGc4dFFqT1c1WEtRSnVRZz09\nMeeting ID: 943 6764 7939 \nPasscode: 531399\nThis is a HYBRID Meeting \nSessler Conference Room: 50A-5132 \nAbstract: \nThe Particle Physics Community Planning Exercise (a.k.a. “Snowmass”) is organized by the Division of Particles and Fields (DPF) of the American Physical Society. Snowmass is a scientific study. It provides an opportunity for the entire particle physics community to come together to identify and document a scientific vision for the future of particle physics in the U.S. and its international partners. Snowmass will define the most important questions for the field of particle physics and identify promising opportunities to address them. \nThe Snowmass exercise is now approaching its end\, with most groups’ reports now available from the website (https://snowmass21.org/start). \nIn this seminar series\, we’ll review the most important messages coming out from these reports in a set of brief talks\, with ample time for questions. \nThis week we’ll have highlights of the Neutrino\, Cosmic and Underground Facilities\, and Cosmic frontiers presented\, respectively\, by Gabriel Orebi-Gann\, Simone Ferraro\, and Kevin Lesko.
URL:https://rpm.physics.lbl.gov/event/speakers-gabriel-orebi-gann-simone-ferraro-kevin-lesko-snowmass-report-highlights-part-2/
LOCATION:HYBRID 50A-5132 (Sessler Conference Room)\, https://lbnl.zoom.us/j/91782268585\, 50A-5132
END:VEVENT
BEGIN:VEVENT
DTSTART;TZID=UTC:20221027T160000
DTEND;TZID=UTC:20221027T170000
DTSTAMP:20260421T184347
CREATED:20221026T210102Z
LAST-MODIFIED:20221026T210520Z
UID:1971-1666886400-1666890000@rpm.physics.lbl.gov
SUMMARY:HYBRID TALK | Mengjiao Xiao (MIT) "In Search of Cosmic-Ray Antinuclei from Dark Matter with the GAPS Experiment"
DESCRIPTION:Abstract:\nThe origin of dark matter is a driving question of modern physics. Finding dark matter in the laboratory and elucidating its properties could revolutionize our understanding of the fundamental building blocks of the universe. The common challenges for dark matter searches in astrophysical signatures are large and uncertain backgrounds. The General Antiparticle Spectrometer (GAPS) is a balloon-borne experiment designed to identify low-energy cosmic antinuclei\, in particular antideuterons from dark matter annihilation or decay\, using the uniquely characterized atomic X-rays and charged particles from the decay of exotic atoms. With such a novel detection approach\, benefitting from a custom- d eveloped large- area silicon tracker and a large-acceptance Time-of-Flight system\, GAPS is sensitive to antideuterons and even antiheliums with the kinetic energy ≤0.25 GeV/n\, which should offer an essentially background-free region to probe many generic dark matter models. Additionally\, GAPS will collect a high-statistics antiproton spectrum in an unexplored energy range\, and open a sensitivity to cosmic antihelium. \nThe GAPS instrument consists of a tracker of >1000 custom Si(Li) detectors; a precision- timing\, large-area time-of-flight system; and a novel oscillating heat pipe thermal system. GAPS is currently under integration and preparing for the first Antarctic balloon flight in late 2023 while two follow-up flights are planned. This talk will present the science impact of the GAPS experiment\, while focusing on its custom-developed instrument technology\, including the design principle\, commissioning of the GAPS functional prototype\, integration and testing of GAPS full payload\, and the path forward to the initial flight. \n  \nhttp://physics.lbl.gov/rpm/index.php/events/ \nIf you are looking to confirm if there is an event\, due to room reservation\, please go to RPM website for a list of all scheduled talks.\n──────────\nTroy Cortez is inviting you to a scheduled Zoom meeting. \nJoin Zoom Meeting\nhttps://lbnl.zoom.us/j/91782268585 \nMeeting ID: 917 8226 8585\nOne tap mobile\n+16699006833\,\,91782268585# US (San Jose)\n+13462487799\,\,91782268585# US (Houston) \nDial by your location\n+1 669 900 6833 US (San Jose)\n+1 346 248 7799 US (Houston)\n+1 253 215 8782 US (Tacoma)\n+1 646 558 8656 US (New York)\n+1 301 715 8592 US (Germantown)\n+1 312 626 6799 US (Chicago)\nMeeting ID: 917 8226 8585\nFind your local number: https://lbnl.zoom.us/u/abeLb1T4q1 \nJoin by SIP\n91782268585@zoomcrc.com \nJoin by H.323\n162.255.37.11 (US West)\n162.255.36.11 (US East)\n115.114.131.7 (India Mumbai)\n115.114.115.7 (India Hyderabad)\n213.19.144.110 (EMEA)\n103.122.166.55 (Australia)\n64.211.144.160 (Brazil)\n69.174.57.160 (Canada)\n207.226.132.110 (Japan)\nMeeting ID: 917 8226 8585 \n 
URL:https://rpm.physics.lbl.gov/event/mengjiao-xiao-mit-in-search-of-cosmic-ray-antinuclei-from-dark-matter-with-the-gaps-experiment/
LOCATION:HYBRID 50A-5132 (Sessler Conference Room)\, https://lbnl.zoom.us/j/91782268585\, 50A-5132
END:VEVENT
END:VCALENDAR